BEGIN:VCALENDAR
VERSION:2.0
PRODID:-//Red Horse Steakhouse by David Burke - ECPv6.15.20//NONSGML v1.0//EN
CALSCALE:GREGORIAN
METHOD:PUBLISH
X-WR-CALNAME:Red Horse Steakhouse by David Burke
X-ORIGINAL-URL:https://redhorsebydb.com
X-WR-CALDESC:Events for Red Horse Steakhouse by David Burke
REFRESH-INTERVAL;VALUE=DURATION:PT1H
X-Robots-Tag:noindex
X-PUBLISHED-TTL:PT1H
BEGIN:VTIMEZONE
TZID:America/New_York
BEGIN:DAYLIGHT
TZOFFSETFROM:-0500
TZOFFSETTO:-0400
TZNAME:EDT
DTSTART:20250309T070000
END:DAYLIGHT
BEGIN:STANDARD
TZOFFSETFROM:-0400
TZOFFSETTO:-0500
TZNAME:EST
DTSTART:20251102T060000
END:STANDARD
BEGIN:DAYLIGHT
TZOFFSETFROM:-0500
TZOFFSETTO:-0400
TZNAME:EDT
DTSTART:20260308T070000
END:DAYLIGHT
BEGIN:STANDARD
TZOFFSETFROM:-0400
TZOFFSETTO:-0500
TZNAME:EST
DTSTART:20261101T060000
END:STANDARD
BEGIN:DAYLIGHT
TZOFFSETFROM:-0500
TZOFFSETTO:-0400
TZNAME:EDT
DTSTART:20270314T070000
END:DAYLIGHT
BEGIN:STANDARD
TZOFFSETFROM:-0400
TZOFFSETTO:-0500
TZNAME:EST
DTSTART:20271107T060000
END:STANDARD
END:VTIMEZONE
BEGIN:VEVENT
DTSTART;TZID=America/New_York:20260319T183000
DTEND;TZID=America/New_York:20260319T213000
DTSTAMP:20260421T060554
CREATED:20260206T155740Z
LAST-MODIFIED:20260309T165554Z
UID:10000376-1773945000-1773955800@redhorsebydb.com
SUMMARY:3/19 March Madness Paul Hobbs Wine Dinner
DESCRIPTION:March Madness Paul Hobbs Wine Dinner\nFour-Course Dinner Paired with Four Wines\nThursday\, March 19\, 2026\n6:30 – 9:30pm\n$95 per person \nA spirited night pairing fine wines with bold flavors—perfect for the season – featuring Paul Hobbs Wine.
URL:https://redhorsebydb.com/event/march-madness/
LOCATION:Red Horse by David Burke\, 26 Ridge Road\, Rumson\, NJ\, 07760\, United States
CATEGORIES:wine dinner
ATTACH;FMTTYPE=image/jpeg:https://redhorsebydb.com/wp-content/uploads/2023/04/march-madness-red-horse-1080b.jpg
ORGANIZER;CN="Red Horse by David Burke":MAILTO:hello@redhorsebydb.com
END:VEVENT
BEGIN:VEVENT
DTSTART;TZID=America/New_York:20260422T183000
DTEND;TZID=America/New_York:20260422T210000
DTSTAMP:20260421T060554
CREATED:20260412T211652Z
LAST-MODIFIED:20260415T035735Z
UID:10000381-1776882600-1776891600@redhorsebydb.com
SUMMARY:OMAKASE Celebration with Chef David Burke and Sushi Master Chef Choi
DESCRIPTION:Ten-Course Omakase – Includes one glass of Rosè\n$95 per person ++ \nWednesday April 22 at 6:30pm
URL:https://redhorsebydb.com/event/omakase-celebration-with-chef-david-burke-and-chef-choi/
LOCATION:Red Horse by David Burke\, 26 Ridge Road\, Rumson\, NJ\, 07760\, United States
CATEGORIES:Omakase,wine dinner
ATTACH;FMTTYPE=image/jpeg:https://redhorsebydb.com/wp-content/uploads/2023/04/omakase-2026-v2.jpg
ORGANIZER;CN="Red Horse by David Burke":MAILTO:hello@redhorsebydb.com
END:VEVENT
BEGIN:VEVENT
DTSTART;TZID=America/New_York:20260423T183000
DTEND;TZID=America/New_York:20260423T213000
DTSTAMP:20260421T060554
CREATED:20260204T222450Z
LAST-MODIFIED:20260313T162325Z
UID:10000375-1776969000-1776979800@redhorsebydb.com
SUMMARY:4/23 Fromagerie Formal at Red Horse by David Burke
DESCRIPTION:Thursday April 23rd\n6:30 pm\n$125 per person\nINCLUDES WINE \nPlease join us for an amazing evening paying Homage to the Fromagerie \nA truly first-class dining experience  with an indulgent\, fromage-forward formal dinner to celebrate Spring in unforgettable style. \nFormal Wear; Dress to Impress\n \nMenu ingredients and items subject to seasonal change
URL:https://redhorsebydb.com/event/fromagerie/
LOCATION:Red Horse by David Burke\, 26 Ridge Road\, Rumson\, NJ\, 07760\, United States
CATEGORIES:dinner,wine dinner
ATTACH;FMTTYPE=image/jpeg:https://redhorsebydb.com/wp-content/uploads/2023/04/fromatgerie-formal-4-23-a.jpg
ORGANIZER;CN="Red Horse by David Burke":MAILTO:hello@redhorsebydb.com
END:VEVENT
BEGIN:VEVENT
DTSTART;TZID=America/New_York:20260507T183000
DTEND;TZID=America/New_York:20260507T213000
DTSTAMP:20260421T060554
CREATED:20260415T020250Z
LAST-MODIFIED:20260415T025811Z
UID:10000382-1778178600-1778189400@redhorsebydb.com
SUMMARY:5/7 Sea Bright + Red Horse Wine Dinner
DESCRIPTION:Sea Bright Wines + Red Horse\nFour-Course Dinner Paired with Four Wines\nThursday\, May 7\, 2026 \n6:30 – 9:30pm\n$95 per person\nTwo of Monmouth County\, NJ favorites join together to invite you to an elegant and upscale wine-paired dinner featuring Sea Bright Wines and Chef David Burke’s RED HORSE cuisine. \nSea Bright Wines is owned by Brian Kelly and Jen Walsh who live in Sea Bright and Rumson\, NJ\, respectively. The bridge connects them. It wasn’t long before these two locals discovered the up-and-coming Paso Robles\, CA wine region\, that they began producing their own wine. Their grapes are sustainably grown in calcareous soils\, hand-picked in the vineyard at sunrise at optimal natural sugar content\, meticulously inspected\, fermented\, and aged separately in French Oak barrels for 30-42 months. These small batch wines are made with the highest quality process and attention to detail to deliver an exceptional experience. \nSavor a multi-course dining experience by Chef David Burke\, featuring seasonal dishes expertly paired with hand-selected red wines. \nA must for both foodies and wine lovers. Book early to secure your table as seating is limited
URL:https://redhorsebydb.com/event/5-7-sea-bright-wines-dinner/
LOCATION:Red Horse by David Burke\, 26 Ridge Road\, Rumson\, NJ\, 07760\, United States
CATEGORIES:wine dinner
ATTACH;FMTTYPE=image/jpeg:https://redhorsebydb.com/wp-content/uploads/2026/04/seabright-may-7.jpg
ORGANIZER;CN="Red Horse by David Burke":MAILTO:hello@redhorsebydb.com
END:VEVENT
END:VCALENDAR