BEGIN:VCALENDAR
VERSION:2.0
PRODID:-//Red Horse Steakhouse by David Burke - ECPv6.15.20//NONSGML v1.0//EN
CALSCALE:GREGORIAN
METHOD:PUBLISH
X-WR-CALNAME:Red Horse Steakhouse by David Burke
X-ORIGINAL-URL:https://redhorsebydb.com
X-WR-CALDESC:Events for Red Horse Steakhouse by David Burke
REFRESH-INTERVAL;VALUE=DURATION:PT1H
X-Robots-Tag:noindex
X-PUBLISHED-TTL:PT1H
BEGIN:VTIMEZONE
TZID:America/New_York
BEGIN:DAYLIGHT
TZOFFSETFROM:-0500
TZOFFSETTO:-0400
TZNAME:EDT
DTSTART:20240310T070000
END:DAYLIGHT
BEGIN:STANDARD
TZOFFSETFROM:-0400
TZOFFSETTO:-0500
TZNAME:EST
DTSTART:20241103T060000
END:STANDARD
BEGIN:DAYLIGHT
TZOFFSETFROM:-0500
TZOFFSETTO:-0400
TZNAME:EDT
DTSTART:20250309T070000
END:DAYLIGHT
BEGIN:STANDARD
TZOFFSETFROM:-0400
TZOFFSETTO:-0500
TZNAME:EST
DTSTART:20251102T060000
END:STANDARD
BEGIN:DAYLIGHT
TZOFFSETFROM:-0500
TZOFFSETTO:-0400
TZNAME:EDT
DTSTART:20260308T070000
END:DAYLIGHT
BEGIN:STANDARD
TZOFFSETFROM:-0400
TZOFFSETTO:-0500
TZNAME:EST
DTSTART:20261101T060000
END:STANDARD
END:VTIMEZONE
BEGIN:VEVENT
DTSTART;TZID=America/New_York:20250930T183000
DTEND;TZID=America/New_York:20250930T183000
DTSTAMP:20260422T041713
CREATED:20250819T204828Z
LAST-MODIFIED:20250822T135203Z
UID:10000366-1759257000-1759257000@redhorsebydb.com
SUMMARY:9/30 Chef David Burke + Fourchette Fromagerie Cooking Demo Dinner
DESCRIPTION:Chef David Burke + Fourchette Gourmet Fromagerie\nCooking Demo Dinner\n5-Course Dinner\nTasting Dishes Elevated by Artisanal Cheese\nTuesday\, September 30\, 2025\n6:30 pm – 9:30 pm\n$85 per person \nChef David Burke and Fourchette’s\, Meredith Hyland\, join forces to elevate your cheese game with a CHEESE focussed Cooking Demo \nA nod to Fromagerie\, get ready to talk cheese and all things gourmet with Chef David Burke and Meredith Hyland! From tasting to elevating your home cooking dishes with artisanal cheese they will share cooking tips and tricks\, recipes and just fun banter.  Join us for this social\, educational dinner and level up your CHEESE IQ! \nMENU\n \nMenu subject to change. Price plus tax\, gratuity. All Ages Event \nAbout Fourchette\nFounded by husband & wife team Meredith Hyland and Brahim Sadouni in 2013\, Fourchette was born from a love story that began in Paris and a shared passion for Europe’s joie de vivre. What started in a cozy shop in Clinton NJ—offering French cheeses\, infused olive oils\, and elegant table linens—has grown into three locations\, including our newest in Red Bank. Today\, Fourchette is a destination for artisanal cheeses\, gourmet provisions\, and refined homewares\, where every item is handpicked for flavor\, quality\, and story.
URL:https://redhorsebydb.com/event/9-30-chef-david-burke-fourchette-cheese-collab-cooking-demo-dinner/
LOCATION:Red Horse by David Burke\, 26 Ridge Road\, Rumson\, NJ\, 07760\, United States
CATEGORIES:wine dinner
ATTACH;FMTTYPE=image/jpeg:https://redhorsebydb.com/wp-content/uploads/2023/04/fromagerie-dinner-demo-rumson.jpg
ORGANIZER;CN="Red Horse by David Burke":MAILTO:hello@redhorsebydb.com
END:VEVENT
END:VCALENDAR