BEGIN:VCALENDAR
VERSION:2.0
PRODID:-//Red Horse Steakhouse by David Burke - ECPv6.15.20//NONSGML v1.0//EN
CALSCALE:GREGORIAN
METHOD:PUBLISH
X-ORIGINAL-URL:https://redhorsebydb.com
X-WR-CALDESC:Events for Red Horse Steakhouse by David Burke
REFRESH-INTERVAL;VALUE=DURATION:PT1H
X-Robots-Tag:noindex
X-PUBLISHED-TTL:PT1H
BEGIN:VTIMEZONE
TZID:America/New_York
BEGIN:DAYLIGHT
TZOFFSETFROM:-0500
TZOFFSETTO:-0400
TZNAME:EDT
DTSTART:20220313T070000
END:DAYLIGHT
BEGIN:STANDARD
TZOFFSETFROM:-0400
TZOFFSETTO:-0500
TZNAME:EST
DTSTART:20221106T060000
END:STANDARD
BEGIN:DAYLIGHT
TZOFFSETFROM:-0500
TZOFFSETTO:-0400
TZNAME:EDT
DTSTART:20230312T070000
END:DAYLIGHT
BEGIN:STANDARD
TZOFFSETFROM:-0400
TZOFFSETTO:-0500
TZNAME:EST
DTSTART:20231105T060000
END:STANDARD
BEGIN:DAYLIGHT
TZOFFSETFROM:-0500
TZOFFSETTO:-0400
TZNAME:EDT
DTSTART:20240310T070000
END:DAYLIGHT
BEGIN:STANDARD
TZOFFSETFROM:-0400
TZOFFSETTO:-0500
TZNAME:EST
DTSTART:20241103T060000
END:STANDARD
END:VTIMEZONE
BEGIN:VEVENT
DTSTART;TZID=America/New_York:20230809T181500
DTEND;TZID=America/New_York:20230809T220000
DTSTAMP:20260421T171934
CREATED:20230630T173240Z
LAST-MODIFIED:20230726T154100Z
UID:10000250-1691604900-1691618400@redhorsebydb.com
SUMMARY:8/9 DINNER in the DARK with Chef David Burke
DESCRIPTION:The Loft “Speak-Easy”\nat Red Horse by David Burke\nRumson\, NJ\n6:15pm \nJoin Chef David Burke\, Wednesday\, August 9th in the Loft “Speak-Easy” for a blindfolded 5-Course Sensory Experience Dinner complete with wine and cocktail pairings. \n$100 per person \nExperience a blindfolded dinner hosted by Chef David Burke \nDINE in the DARK\nSmell the Herbs and Spices\nTaste the Land and the Sea\nSpeak with people you do not know \n**Price does not include tax and gratuity**
URL:https://redhorsebydb.com/event/8-9-dinner-in-the-dark-with-chef-david-burke/
LOCATION:Red Horse by David Burke\, 26 Ridge Road\, Rumson\, NJ\, 07760\, United States
CATEGORIES:dinner,wine dinner
ATTACH;FMTTYPE=image/jpeg:https://redhorsebydb.com/wp-content/uploads/2023/06/red-horse-dinner-in-the-dark-aug-9.jpg
ORGANIZER;CN="Red Horse by David Burke":MAILTO:hello@redhorsebydb.com
END:VEVENT
END:VCALENDAR