BEGIN:VCALENDAR
VERSION:2.0
PRODID:-//Red Horse Steakhouse by David Burke - ECPv6.15.20//NONSGML v1.0//EN
CALSCALE:GREGORIAN
METHOD:PUBLISH
X-ORIGINAL-URL:https://redhorsebydb.com
X-WR-CALDESC:Events for Red Horse Steakhouse by David Burke
REFRESH-INTERVAL;VALUE=DURATION:PT1H
X-Robots-Tag:noindex
X-PUBLISHED-TTL:PT1H
BEGIN:VTIMEZONE
TZID:America/New_York
BEGIN:DAYLIGHT
TZOFFSETFROM:-0500
TZOFFSETTO:-0400
TZNAME:EDT
DTSTART:20220313T070000
END:DAYLIGHT
BEGIN:STANDARD
TZOFFSETFROM:-0400
TZOFFSETTO:-0500
TZNAME:EST
DTSTART:20221106T060000
END:STANDARD
BEGIN:DAYLIGHT
TZOFFSETFROM:-0500
TZOFFSETTO:-0400
TZNAME:EDT
DTSTART:20230312T070000
END:DAYLIGHT
BEGIN:STANDARD
TZOFFSETFROM:-0400
TZOFFSETTO:-0500
TZNAME:EST
DTSTART:20231105T060000
END:STANDARD
BEGIN:DAYLIGHT
TZOFFSETFROM:-0500
TZOFFSETTO:-0400
TZNAME:EDT
DTSTART:20240310T070000
END:DAYLIGHT
BEGIN:STANDARD
TZOFFSETFROM:-0400
TZOFFSETTO:-0500
TZNAME:EST
DTSTART:20241103T060000
END:STANDARD
END:VTIMEZONE
BEGIN:VEVENT
DTSTART;TZID=America/New_York:20230502T163000
DTEND;TZID=America/New_York:20230502T210000
DTSTAMP:20260422T175254
CREATED:20230116T142841Z
LAST-MODIFIED:20230301T202342Z
UID:10000217-1683045000-1683061200@redhorsebydb.com
SUMMARY:All Night Happy Hour Tuesdays
DESCRIPTION:All Day Tuesdays\n4:30 pm – close \nin the Loft 4 – 9pm \nBar Bites\, Happy Hour Drinks\, Sushi + More
URL:https://redhorsebydb.com/event/live-on-the-loft-tuesdays/2023-05-02/
LOCATION:Red Horse by David Burke\, 26 Ridge Road\, Rumson\, NJ\, 07760\, United States
CATEGORIES:specials
ATTACH;FMTTYPE=image/jpeg:https://redhorsebydb.com/wp-content/uploads/2021/08/SushiLoft.jpg
ORGANIZER;CN="Red Horse by David Burke":MAILTO:hello@redhorsebydb.com
END:VEVENT
BEGIN:VEVENT
DTSTART;TZID=America/New_York:20230509T163000
DTEND;TZID=America/New_York:20230509T210000
DTSTAMP:20260422T175254
CREATED:20230116T142841Z
LAST-MODIFIED:20230301T202342Z
UID:10000218-1683649800-1683666000@redhorsebydb.com
SUMMARY:All Night Happy Hour Tuesdays
DESCRIPTION:All Day Tuesdays\n4:30 pm – close \nin the Loft 4 – 9pm \nBar Bites\, Happy Hour Drinks\, Sushi + More
URL:https://redhorsebydb.com/event/live-on-the-loft-tuesdays/2023-05-09/
LOCATION:Red Horse by David Burke\, 26 Ridge Road\, Rumson\, NJ\, 07760\, United States
CATEGORIES:specials
ATTACH;FMTTYPE=image/jpeg:https://redhorsebydb.com/wp-content/uploads/2021/08/SushiLoft.jpg
ORGANIZER;CN="Red Horse by David Burke":MAILTO:hello@redhorsebydb.com
END:VEVENT
BEGIN:VEVENT
DTSTART;TZID=America/New_York:20230516T163000
DTEND;TZID=America/New_York:20230516T210000
DTSTAMP:20260422T175254
CREATED:20230116T142841Z
LAST-MODIFIED:20230301T202342Z
UID:10000219-1684254600-1684270800@redhorsebydb.com
SUMMARY:All Night Happy Hour Tuesdays
DESCRIPTION:All Day Tuesdays\n4:30 pm – close \nin the Loft 4 – 9pm \nBar Bites\, Happy Hour Drinks\, Sushi + More
URL:https://redhorsebydb.com/event/live-on-the-loft-tuesdays/2023-05-16/
LOCATION:Red Horse by David Burke\, 26 Ridge Road\, Rumson\, NJ\, 07760\, United States
CATEGORIES:specials
ATTACH;FMTTYPE=image/jpeg:https://redhorsebydb.com/wp-content/uploads/2021/08/SushiLoft.jpg
ORGANIZER;CN="Red Horse by David Burke":MAILTO:hello@redhorsebydb.com
END:VEVENT
BEGIN:VEVENT
DTSTART;TZID=America/New_York:20230523T163000
DTEND;TZID=America/New_York:20230523T210000
DTSTAMP:20260422T175254
CREATED:20230116T142841Z
LAST-MODIFIED:20230301T202342Z
UID:10000220-1684859400-1684875600@redhorsebydb.com
SUMMARY:All Night Happy Hour Tuesdays
DESCRIPTION:All Day Tuesdays\n4:30 pm – close \nin the Loft 4 – 9pm \nBar Bites\, Happy Hour Drinks\, Sushi + More
URL:https://redhorsebydb.com/event/live-on-the-loft-tuesdays/2023-05-23/
LOCATION:Red Horse by David Burke\, 26 Ridge Road\, Rumson\, NJ\, 07760\, United States
CATEGORIES:specials
ATTACH;FMTTYPE=image/jpeg:https://redhorsebydb.com/wp-content/uploads/2021/08/SushiLoft.jpg
ORGANIZER;CN="Red Horse by David Burke":MAILTO:hello@redhorsebydb.com
END:VEVENT
BEGIN:VEVENT
DTSTART;TZID=America/New_York:20230530T163000
DTEND;TZID=America/New_York:20230530T210000
DTSTAMP:20260422T175254
CREATED:20230116T142841Z
LAST-MODIFIED:20230301T202342Z
UID:10000221-1685464200-1685480400@redhorsebydb.com
SUMMARY:All Night Happy Hour Tuesdays
DESCRIPTION:All Day Tuesdays\n4:30 pm – close \nin the Loft 4 – 9pm \nBar Bites\, Happy Hour Drinks\, Sushi + More
URL:https://redhorsebydb.com/event/live-on-the-loft-tuesdays/2023-05-30/
LOCATION:Red Horse by David Burke\, 26 Ridge Road\, Rumson\, NJ\, 07760\, United States
CATEGORIES:specials
ATTACH;FMTTYPE=image/jpeg:https://redhorsebydb.com/wp-content/uploads/2021/08/SushiLoft.jpg
ORGANIZER;CN="Red Horse by David Burke":MAILTO:hello@redhorsebydb.com
END:VEVENT
END:VCALENDAR