BEGIN:VCALENDAR
VERSION:2.0
PRODID:-//Red Horse Steakhouse by David Burke - ECPv6.15.20//NONSGML v1.0//EN
CALSCALE:GREGORIAN
METHOD:PUBLISH
X-ORIGINAL-URL:https://redhorsebydb.com
X-WR-CALDESC:Events for Red Horse Steakhouse by David Burke
REFRESH-INTERVAL;VALUE=DURATION:PT1H
X-Robots-Tag:noindex
X-PUBLISHED-TTL:PT1H
BEGIN:VTIMEZONE
TZID:America/New_York
BEGIN:DAYLIGHT
TZOFFSETFROM:-0500
TZOFFSETTO:-0400
TZNAME:EDT
DTSTART:20210314T070000
END:DAYLIGHT
BEGIN:STANDARD
TZOFFSETFROM:-0400
TZOFFSETTO:-0500
TZNAME:EST
DTSTART:20211107T060000
END:STANDARD
BEGIN:DAYLIGHT
TZOFFSETFROM:-0500
TZOFFSETTO:-0400
TZNAME:EDT
DTSTART:20220313T070000
END:DAYLIGHT
BEGIN:STANDARD
TZOFFSETFROM:-0400
TZOFFSETTO:-0500
TZNAME:EST
DTSTART:20221106T060000
END:STANDARD
BEGIN:DAYLIGHT
TZOFFSETFROM:-0500
TZOFFSETTO:-0400
TZNAME:EDT
DTSTART:20230312T070000
END:DAYLIGHT
BEGIN:STANDARD
TZOFFSETFROM:-0400
TZOFFSETTO:-0500
TZNAME:EST
DTSTART:20231105T060000
END:STANDARD
BEGIN:DAYLIGHT
TZOFFSETFROM:-0500
TZOFFSETTO:-0400
TZNAME:EDT
DTSTART:20240310T070000
END:DAYLIGHT
BEGIN:STANDARD
TZOFFSETFROM:-0400
TZOFFSETTO:-0500
TZNAME:EST
DTSTART:20241103T060000
END:STANDARD
BEGIN:DAYLIGHT
TZOFFSETFROM:-0500
TZOFFSETTO:-0400
TZNAME:EDT
DTSTART:20250309T070000
END:DAYLIGHT
BEGIN:STANDARD
TZOFFSETFROM:-0400
TZOFFSETTO:-0500
TZNAME:EST
DTSTART:20251102T060000
END:STANDARD
BEGIN:DAYLIGHT
TZOFFSETFROM:-0500
TZOFFSETTO:-0400
TZNAME:EDT
DTSTART:20260308T070000
END:DAYLIGHT
BEGIN:STANDARD
TZOFFSETFROM:-0400
TZOFFSETTO:-0500
TZNAME:EST
DTSTART:20261101T060000
END:STANDARD
BEGIN:DAYLIGHT
TZOFFSETFROM:-0500
TZOFFSETTO:-0400
TZNAME:EDT
DTSTART:20270314T070000
END:DAYLIGHT
BEGIN:STANDARD
TZOFFSETFROM:-0400
TZOFFSETTO:-0500
TZNAME:EST
DTSTART:20271107T060000
END:STANDARD
END:VTIMEZONE
BEGIN:VEVENT
DTSTART;TZID=America/New_York:20260319T183000
DTEND;TZID=America/New_York:20260319T213000
DTSTAMP:20260423T075554
CREATED:20260206T155740Z
LAST-MODIFIED:20260309T165554Z
UID:10000376-1773945000-1773955800@redhorsebydb.com
SUMMARY:3/19 March Madness Paul Hobbs Wine Dinner
DESCRIPTION:March Madness Paul Hobbs Wine Dinner\nFour-Course Dinner Paired with Four Wines\nThursday\, March 19\, 2026\n6:30 – 9:30pm\n$95 per person \nA spirited night pairing fine wines with bold flavors—perfect for the season – featuring Paul Hobbs Wine.
URL:https://redhorsebydb.com/event/march-madness/
LOCATION:Red Horse by David Burke\, 26 Ridge Road\, Rumson\, NJ\, 07760\, United States
CATEGORIES:wine dinner
ATTACH;FMTTYPE=image/jpeg:https://redhorsebydb.com/wp-content/uploads/2023/04/march-madness-red-horse-1080b.jpg
ORGANIZER;CN="Red Horse by David Burke":MAILTO:hello@redhorsebydb.com
END:VEVENT
BEGIN:VEVENT
DTSTART;TZID=America/New_York:20260305T190000
DTEND;TZID=America/New_York:20260305T220000
DTSTAMP:20260423T075554
CREATED:20260220T204157Z
LAST-MODIFIED:20260302T192137Z
UID:10000379-1772737200-1772748000@redhorsebydb.com
SUMMARY:3/5 Three Course Dinner with Celebrity Medium: Sophia Marotta
DESCRIPTION:Three Course Dinner with Celebrity Medium: Sophia Marotta\nThursday | March 5\, 2026 \nDoors Open 6:30pm \nDinner & Experience Begin at 7:00pm\n$85pp \nAn evening connecting with loved ones & validating messages with the gifted Sophia Marotta. \nFirst Course – Choice of: \n\n\nRed Horse Caesar Salad\nTuna Tartare\nArtichoke\, Mushroom and Delicata Squash Tempura with Truffle Aioli\n\nEntree – Choice of :\nGrilled Hangar Steak with Chimichuri and Sweet Potato Frites\nPork Chop Milanese\, Crispy Prosciutto\, Arugula\, Roasted Pear\, Peppadew Peppers\, Sherry Vinaigrette and Shaved Parmesan\nPan Seared Salmon\, Lemon Basil Orzo\, Tomato Butter\n\nDessert – Choice of:\nKey Lime Pie\nTiny Dancer Chocolate Mousse Cake\nCreme Brulee
URL:https://redhorsebydb.com/event/3-5-three-course-dinner-with-celebrity-medium-sophia-marotta/
LOCATION:Red Horse by David Burke\, 26 Ridge Road\, Rumson\, NJ\, 07760\, United States
CATEGORIES:collab,dinner,psychic Medium
ATTACH;FMTTYPE=image/png:https://redhorsebydb.com/wp-content/uploads/2026/02/RHR_NJmedium_March5-1.png
ORGANIZER;CN="Red Horse by David Burke":MAILTO:hello@redhorsebydb.com
END:VEVENT
BEGIN:VEVENT
DTSTART;TZID=America/New_York:20251112T183000
DTEND;TZID=America/New_York:20251112T213000
DTSTAMP:20260423T075554
CREATED:20251009T131009Z
LAST-MODIFIED:20251020T165847Z
UID:10000372-1762972200-1762983000@redhorsebydb.com
SUMMARY:11/12 Sea Bright Wines Dinner
DESCRIPTION:Sea Bright Wines x Red Horse\nFour-Course Dinner Paired with Four Wines\nWednesday\, November 12\, 2025\n\n6:30 – 9:30pm\n$95 per person\nTwo of Monmouth County\, NJ favorites join together to invite you to an elegant and upscale wine-paired dinner featuring Sea Bright Wines and Chef David Burke’s RED HORSE cuisine. \nSea Bright Wines is owned by Brian Kelly and Jen Walsh who live in Sea Bright and Rumson\, NJ\, respectively. The bridge connects them. It wasn’t long before these two locals discovered the up-and-coming Paso Robles\, CA wine region\, that they began producing their own wine. Their grapes are sustainably grown in calcareous soils\, hand-picked in the vineyard at sunrise at optimal natural sugar content\, meticulously inspected\, fermented\, and aged separately in French Oak barrels for 30-42 months. These small batch wines are made with the highest quality process and attention to detail to deliver an exceptional experience. \nSavor a multi-course dining experience by Chef David Burke\, featuring seasonal dishes expertly paired with hand-selected red wines. \nA must for both foodies and wine lovers. Book early to secure your table as seating is limited
URL:https://redhorsebydb.com/event/11-12-sea-bright-wine-dinner-monmouth-county/
LOCATION:Red Horse by David Burke\, 26 Ridge Road\, Rumson\, NJ\, 07760\, United States
CATEGORIES:wine dinner
ATTACH;FMTTYPE=image/png:https://redhorsebydb.com/wp-content/uploads/2025/10/Red_Horse_Rumson_Sea_Bright_Wine_Dinner.png
ORGANIZER;CN="Red Horse by David Burke":MAILTO:hello@redhorsebydb.com
END:VEVENT
BEGIN:VEVENT
DTSTART;TZID=America/New_York:20250911T183000
DTEND;TZID=America/New_York:20250911T213000
DTSTAMP:20260423T075554
CREATED:20250818T215125Z
LAST-MODIFIED:20250828T140549Z
UID:10000364-1757615400-1757626200@redhorsebydb.com
SUMMARY:9/11 Prisoner Wine Dinner
DESCRIPTION:Prisoner Wine X Red Horse Dinner\n4-Course Dinner Paired with 4 Wines\nThursday\, September 11\, 2025\n6:30 – 9:30pm\n$95 per person \nRed Horse by David Burke – Rumson\, NJ presents a menu pairing late summer flavors with Prisoner Wines from Napa Valley.  We’d love for you to join and meet other wine lovers!  This is a seated multi-course dinner with dessert\, presentations of wines at each course and a brief Q&A.
URL:https://redhorsebydb.com/event/9-11-prisoner-wine-dinner/
LOCATION:Red Horse by David Burke\, 26 Ridge Road\, Rumson\, NJ\, 07760\, United States
CATEGORIES:wine dinner
ATTACH;FMTTYPE=image/jpeg:https://redhorsebydb.com/wp-content/uploads/2025/08/prisoner-911-red-horse-1080.jpg
ORGANIZER;CN="Red Horse by David Burke":MAILTO:hello@redhorsebydb.com
END:VEVENT
BEGIN:VEVENT
DTSTART;TZID=America/New_York:20250814T183000
DTEND;TZID=America/New_York:20250814T213000
DTSTAMP:20260423T075554
CREATED:20250801T222718Z
LAST-MODIFIED:20250801T222905Z
UID:10000360-1755196200-1755207000@redhorsebydb.com
SUMMARY:8/14 French Estates Wine Dinner
DESCRIPTION:French Estate Wines X Red Horse Dinner\n4-Course Dinner Paired with 4 Wines\nThursday\, August 14\, 2025\n6:30 – 9:30pm\n$95 per person \nRed Horse by David Burke – Rumson\, NJ presents a menu pairing the peak flavors of summer with Top Estate Wines from France.  We’d love for you to join and meet other wine lovers!  This is a seated multi-course dinner with dessert\, presentations of wines at each course and a brief Q&A. \nWines \nS. Delafont\, Languedoc Mosaique White 2023\nChâteau de la Terrière\, Pinot Noir\nBARON EDMOND DE ROTHSCHILD\, Croix de Malengin 2020\nXavier Flouret\, Kavalier Reisling 2022 \nMenu \n \n 
URL:https://redhorsebydb.com/event/8-14-french-estates-wine-dinner/
LOCATION:Red Horse by David Burke\, 26 Ridge Road\, Rumson\, NJ\, 07760\, United States
CATEGORIES:wine dinner
ATTACH;FMTTYPE=image/jpeg:https://redhorsebydb.com/wp-content/uploads/2023/04/french-estates-dinner-red-horse-8-14fw.jpg
ORGANIZER;CN="Red Horse by David Burke":MAILTO:hello@redhorsebydb.com
END:VEVENT
BEGIN:VEVENT
DTSTART;TZID=America/New_York:20250619T183000
DTEND;TZID=America/New_York:20250619T213000
DTSTAMP:20260423T075554
CREATED:20250529T205805Z
LAST-MODIFIED:20250616T200957Z
UID:10000357-1750357800-1750368600@redhorsebydb.com
SUMMARY:6/19 J. Lohr Vineyards Wine Dinner
DESCRIPTION:J. Lohr X Red Horse Wine Dinner\n5-Course Dinner Paired with 5 Wines\nThursday\, June 19\, 2025\n6:30 – 9:30pm\n$95 per person \nJ. Lohr single-minded goal is to let the quality and terroir of our vineyards in Monterey\, Paso Robles\, and Napa Valley shine through in every bottle. Celebrating the start of Summer\, Red Horse presents a 5-Course wine dinner\, taking you on a chef crafted pairing and flavor journey to match. We’d love for you to join and meet other wine lovers!  This is a seated multi-course dinner with dessert\, presentations of wines and a brief Q&A. \nWines \n2023 J. LOHR ESTATES FLUME CROSSING\, SAUVIGNON BLANC\, Monterey\n2023 J. LOHR ARROYO VISTA CHARDONNAY\, Arroyo Seco\, Monterey\n2023 J. LOHR FOG’S REACH PINOT NOIR\, Arroyo Seco\, Monterey (93 points in Wine Spectator)\n2022 J. LOHR HILLTOP CABERNET SAUVIGNON\, Paso Robles\n2024 J. LOHR Bay Mist WHITE RIESLING\, Arroyo Seco\, Monterey \nMenu
URL:https://redhorsebydb.com/event/6-19-j-lohr-vineyards-wine-dinner/
LOCATION:Red Horse by David Burke\, 26 Ridge Road\, Rumson\, NJ\, 07760\, United States
CATEGORIES:wine dinner
ATTACH;FMTTYPE=image/jpeg:https://redhorsebydb.com/wp-content/uploads/2023/04/j-lohr-wine-dinner-red-horsev2.jpg
ORGANIZER;CN="Red Horse by David Burke":MAILTO:hello@redhorsebydb.com
END:VEVENT
BEGIN:VEVENT
DTSTART;TZID=America/New_York:20250508T183000
DTEND;TZID=America/New_York:20250508T213000
DTSTAMP:20260423T075554
CREATED:20250414T215226Z
LAST-MODIFIED:20250506T212843Z
UID:10000352-1746729000-1746739800@redhorsebydb.com
SUMMARY:5/8 Duckhorn Vineyards Wine Dinner
DESCRIPTION:Duckhorn Wine Dinner\n5-Course Dinner Paired with Duckhorn Wines\nThursday\, May 8\, 2025\n6:30 – 9:30pm\n$95 per person \nCo-founded by Dan and Margaret Duckhorn in 1976\, Duckhorn Vineyards has spent nearly fifty years establishing itself as one of North America’s premier producers of Napa Valley wines. Celebrating the height of spring flavors\, Red Horse presents a 5-Course wine dinner\, taking you on a chef crafted pairing and flavor journey to match. We’d love for you to join and meet other wine lovers!  This is a seated multi-course dinner with dessert\, presentations of wines and a brief Q&A. \nMenu
URL:https://redhorsebydb.com/event/wine-dinner/
LOCATION:Red Horse by David Burke\, 26 Ridge Road\, Rumson\, NJ\, 07760\, United States
CATEGORIES:wine dinner
ATTACH;FMTTYPE=image/jpeg:https://redhorsebydb.com/wp-content/uploads/2023/04/duck-horn-dinner-red-horse-may-8-25.jpg
ORGANIZER;CN="Red Horse by David Burke":MAILTO:hello@redhorsebydb.com
END:VEVENT
BEGIN:VEVENT
DTSTART;TZID=America/New_York:20250326T183000
DTEND;TZID=America/New_York:20250326T213000
DTSTAMP:20260423T075554
CREATED:20250208T145929Z
LAST-MODIFIED:20250325T204011Z
UID:10000349-1743013800-1743024600@redhorsebydb.com
SUMMARY:3/26 Paul Hobbs Wine Dinner
DESCRIPTION:Paul Hobbs Wine Dinner\n5-Course Dinner Paired with Paul Hobbs Wines\nWednesday\, March 26\, 2025\n6:30 – 9:30pm\n$125 per person \nRenowned Winemaker Paul Hobbs farms a collection of prestigious vineyards around the world. Celebrating spring flavors\, Red Horse presents a 5-Course wine dinner\, taking you on a chef crafted pairing and flavor journey to match. We’d love for you to join and meet other wine lovers!  This is a seated multi-course dinner with dessert\, presentations of wines and a brief Q&A.
URL:https://redhorsebydb.com/event/3-26-paul-hobbs-wine-dinner/
LOCATION:Red Horse by David Burke\, 26 Ridge Road\, Rumson\, NJ\, 07760\, United States
CATEGORIES:wine dinner
ATTACH;FMTTYPE=image/jpeg:https://redhorsebydb.com/wp-content/uploads/2023/04/paul-hobbs-wine-dinner-3-26-v2.jpg
ORGANIZER;CN="Red Horse by David Burke":MAILTO:hello@redhorsebydb.com
END:VEVENT
BEGIN:VEVENT
DTSTART;TZID=America/New_York:20240125T183000
DTEND;TZID=America/New_York:20240125T213000
DTSTAMP:20260423T075554
CREATED:20240103T220815Z
LAST-MODIFIED:20240103T231825Z
UID:10000321-1706207400-1706218200@redhorsebydb.com
SUMMARY:1/25/24 "Tour of Europe" Wine Dinner
DESCRIPTION:Five Course Dinner with 5 Pairings\nThursday\, January 25\, 2024\n6:30 pm\n$110 per person (+ tax and gratuity) \nSpend an amazing evening on a flavor tour of Europe’s exemplary wines at Red Horse by David Burke\, Rumson\, NJ. Don’t miss this experience as you are walked through featured wines from France\, Italy\, Spain and Austria and carefully curated menu by our experts. \n \nages 21+ \n 
URL:https://redhorsebydb.com/event/1-25-24-tour-of-europe-wine-dinner/
LOCATION:Red Horse by David Burke\, 26 Ridge Road\, Rumson\, NJ\, 07760\, United States
CATEGORIES:wine dinner
ATTACH;FMTTYPE=image/jpeg:https://redhorsebydb.com/wp-content/uploads/2023/04/eurotour-wine-dinner-1080.jpg
ORGANIZER;CN="Red Horse by David Burke":MAILTO:hello@redhorsebydb.com
END:VEVENT
BEGIN:VEVENT
DTSTART;TZID=America/New_York:20231019T183000
DTEND;TZID=America/New_York:20231019T213000
DTSTAMP:20260423T075554
CREATED:20230919T211644Z
LAST-MODIFIED:20231006T161914Z
UID:10000267-1697740200-1697751000@redhorsebydb.com
SUMMARY:10/19 "Tour of PIANIROSSI Italy" Wine Dinner
DESCRIPTION:Four Course Dinner with Pairings\nThursday\, October  19\, 2023\n6:30 pm\n$95 per person (+ tax and gratuity) \nSpend an amazing evening on a flavor tour of Pianirossi wines at Red Horse. Located in the hills of Maremma between Montalcino and Amiata mountain\, Pianirossi is a most illustrious food & wine destination. Don’t miss this experience as you are walked through the featured wines and carefully curated menu by our experts. \n \nPIANIROSSI Story \nThe project started more than twenty years ago\, when the owner Stefano Sincini\, after falling in love with the landscapes of the red soil in this particular hills of Maremma; were during his studies in Siena\, set the goal to build something unique\, preserving the beauty of the territory.\nThat is how Tenuta Pianirossi was born. \nAn Organic & Sustainable Approach to life:\nFrom the interiors to the selected cultivation methods\, everything has been thought in respect of the environment.\nthe site has been built\, using only recycled materials. The vineyards are entirely curated with the Normative of Dry farm certification and organic\, we do not use any chemical during the production and we also Powergrid independent since we only use solar energy to put the infrastructer at function during all activities.\nWe are a green certified and the first winery that was independent from the use of greenhouse gas emission \nages 21+ \n 
URL:https://redhorsebydb.com/event/10-19-tour-of-pianirossi-italy-wine-dinner/
LOCATION:Red Horse by David Burke\, 26 Ridge Road\, Rumson\, NJ\, 07760\, United States
CATEGORIES:wine dinner
ATTACH;FMTTYPE=image/jpeg:https://redhorsebydb.com/wp-content/uploads/2023/09/pianirossi-tour-800.jpg
ORGANIZER;CN="Red Horse by David Burke":MAILTO:hello@redhorsebydb.com
END:VEVENT
BEGIN:VEVENT
DTSTART;TZID=America/New_York:20230330T190000
DTEND;TZID=America/New_York:20230330T220000
DTSTAMP:20260423T075554
CREATED:20230223T181312Z
LAST-MODIFIED:20230318T174836Z
UID:10000209-1680202800-1680213600@redhorsebydb.com
SUMMARY:3/30 AMBHAR Tequila X Red Horse by David Cocktail Dinner
DESCRIPTION:RED HORSE by David Burke X AMBHAR DRAGONFLY TEQUILA\n4-Course Dinner with Cocktail Pairings\nThursday\, March 30\n$135 per person \nGuests will indulge in a wide range of flavors and expressions of AMBHAR Dragonfly Tequila\, an ultra-premium sipping tequila tailored for the distinguishing connoisseur who appreciates and savors the taste of perfection. AMBHAR marks the return of artisan tequila based on centuries-old recipes and made in small batches from 100% blue agave.\nThe evening will feature a specially curated 4-course set menu alongside cocktails prepared with rare expressions of Ambhar Dragonfly Tequila that is sure to impress you.\nThe menu will feature a variety of delicious dishes\, carefully curated by the master chef “DAVID BURKE”. \nDine among Chic and contemporary decor\, with tranquil ambience\, creates the perfect ambience for a romantic evening while enjoying the company of your loved one. Where music\, cocktails and great food collide! \nPlease join us for what is sure to be a memorable evening. Seating is limited so please buy your tickets early to avoid missing out on this special event.  \n \nPairings & Menu subject to change. \n21 and over
URL:https://redhorsebydb.com/event/ambhar-tequila-dinner/
LOCATION:Red Horse by David Burke\, 26 Ridge Road\, Rumson\, NJ\, 07760\, United States
CATEGORIES:wine dinner
ATTACH;FMTTYPE=image/jpeg:https://redhorsebydb.com/wp-content/uploads/2023/02/red-horse-rumson-tequilla-dinner-1080.jpg
ORGANIZER;CN="Red Horse by David Burke":MAILTO:hello@redhorsebydb.com
END:VEVENT
BEGIN:VEVENT
DTSTART;TZID=America/New_York:20230209T183000
DTEND;TZID=America/New_York:20230209T213000
DTSTAMP:20260423T075554
CREATED:20230104T161443Z
LAST-MODIFIED:20230130T182100Z
UID:10000172-1675967400-1675978200@redhorsebydb.com
SUMMARY:Orin Swift X Red Horse by David Burke Wine Dinner
DESCRIPTION:Orin Swift X Red Horse by David Burke\nWine Dinner\n5-Course Menu w/ 6 wine pairings\nThursday\, February 9\n$160 per person \nFirst Course\nDressed Oyster\nSmoked Salmon\, crispy duck skin\, pickled shallots\, and horseradish\n+ Orin Swift Cellars® – Mannequin 2021 +  \nSecond Course\nScallop carpaccio\, osetra caviar\, lobster vinaigrette\n+ Orin Swift Cellars® – 2020 Abstract + \nThird Course\nRabbit\, mushroom\, truffle ravioli\n+ Orin Swift Cellars® – 2020 Palermo + \nEntree\nBeef Wellington\nCelery root puree\, glazed carrots\, watercress coulis\, cabernet demi\n+ Orin Swift Cellars® – 2020 Papillon & 2019 Machete (side by side) + \nDessert\n“A Horse with No Name”\nCaramelized and cinnamon-smoked apple tart with spice ice cream\n+ Orin Swift Cellars® – 2021 8 Years in the Desert +
URL:https://redhorsebydb.com/event/orin-swift-wine-dinner/
LOCATION:Red Horse by David Burke\, 26 Ridge Road\, Rumson\, NJ\, 07760\, United States
CATEGORIES:wine dinner
ATTACH;FMTTYPE=image/jpeg:https://redhorsebydb.com/wp-content/uploads/2023/01/ORIN-SWIFT-red-horse-2000.jpg
ORGANIZER;CN="Red Horse by David Burke":MAILTO:hello@redhorsebydb.com
END:VEVENT
BEGIN:VEVENT
DTSTART;TZID=America/New_York:20221108T180000
DTEND;TZID=America/New_York:20221108T213000
DTSTAMP:20260423T075554
CREATED:20220920T175705Z
LAST-MODIFIED:20221010T231730Z
UID:10000127-1667930400-1667943000@redhorsebydb.com
SUMMARY:11/8 Homage to Fromagerie
DESCRIPTION:The pandemic is over. Time to dust off your jewels\, best dresses and suits for a night of Fine Dining surrounded by candle lit tables and elegance. Please join me for a throwback to a special era and pay Homage to the Fromagerie! \nTuesday\, November 8\, 2022\n \nPassed Canapés 6 – 7 pm  \nSeated Dinner 7 – 9 pm  \nVeuve Clicquot Cocktail Reception\nFour Course Dinner by David Burke \n$135 per person\nTickets must be purchased in advance. \nAttire: Jewels\, Dresses and Jackets \nMenu to be revealed soon
URL:https://redhorsebydb.com/event/11-8-homage-to-fromagerie/
LOCATION:The LOFT in Red Horse by David Burke\, 26 Ridge Road\, Rumson\, NJ\, 07760\, United States
CATEGORIES:dinner,Steakhouse Dinners
ATTACH;FMTTYPE=image/jpeg:https://redhorsebydb.com/wp-content/uploads/2022/09/RedHorse_HomagetoFromagerie_Sq_4.jpg
ORGANIZER;CN="Red Horse by David Burke":MAILTO:hello@redhorsebydb.com
END:VEVENT
BEGIN:VEVENT
DTSTART;TZID=America/New_York:20221027T183000
DTEND;TZID=America/New_York:20221027T213000
DTSTAMP:20260423T075554
CREATED:20221011T175600Z
LAST-MODIFIED:20221013T192946Z
UID:10000136-1666895400-1666906200@redhorsebydb.com
SUMMARY:10/27 Tuscan Wine Tasting and Dinner
DESCRIPTION:Thursday\, October 27\, 2022 at 6:30pm\n10 WINE TASTING with light passed appetizers\n4 Course Tuscan Dinner Menu by David Burke paired with Tuscan Wines\nThe Loft at Red Horse\n \n$145 per person (plus tax)\nTickets must be purchased in advance.  A  20% service charge\, including gratuity will be added to final bill. \n10 Wine Tasting\n2019 FABRIZIO PRATESI LOCOROSSO\, BARCO REALE\n2019 MONTERINALDI CHIANTI CLASSICO\n2018 MONTERINALDI CHIANTI CLASSICO RISERVA\n2017 CHIACCIERA VINO NOBILE DI MONTEPULCIANO\n2018 FABRIZIO PRATESI CIRCO ROSSO CARMIGNANO\n2014 SAN GIUSTO A RENTENNANO CHIANTI CLASSICO RISERVA\nMYSTERY WINE\n2011 CANALICCHIO DI SOPRA BRUNELLO\n2010 VALDICAVA BRUNELLO\n2007 FONTODI FLACCIANELLO \nWine Pairings – Dinner Menu to be revealed shortly\nWelcome: Villa CASCINA CHICCO SPARKLING NEBBIOLO CUVEE ZERO 2017\nDinner White: MORMORAIA VERNACCIA DI SAN GIMINGANO RISERVA 2015\nDinner Red: CHIACCHIERA ROSSO DI MONPTEPULCIANO 2019\nDessert: BARBERANI MOSCATO PASSITO \nMenu subject to change.
URL:https://redhorsebydb.com/event/10-27-tuscan-wine-tasting-and-dinner/
LOCATION:The LOFT in Red Horse by David Burke\, 26 Ridge Road\, Rumson\, NJ\, 07760\, United States
CATEGORIES:dinner,Steakhouse Dinners
ATTACH;FMTTYPE=image/jpeg:https://redhorsebydb.com/wp-content/uploads/2022/10/RedHorsebyDB_TuscanWineDinner-2-copy.jpg
ORGANIZER;CN="Red Horse by David Burke":MAILTO:hello@redhorsebydb.com
END:VEVENT
BEGIN:VEVENT
DTSTART;TZID=America/New_York:20220922T183000
DTEND;TZID=America/New_York:20220922T213000
DTSTAMP:20260423T075554
CREATED:20220509T183842Z
LAST-MODIFIED:20220909T002704Z
UID:10000097-1663871400-1663882200@redhorsebydb.com
SUMMARY:"An Evening in Burgundy" 5-Course Wine Dinner
DESCRIPTION:Thursday\, September 22\, 2022\n6:30pm light passed appetizers & sparkling wine upon arrival\n7 pm seated dinner\nThe Loft at Red Horse\n \n$185 per person (plus tax)\nTickets must be purchased in advance.  A  20% service charge\, including gratuity will be added to final bill. \n“An Evening in Burgundy” 5-Course Wine Dinner\nPAIRINGS\nRECEPTION\nPassed Appetizers | Popovers & Cornbread with Gruyere Cheese\nLanglois Chateau Crement Rose NV \nFIRST COURSE\nTuna Crudo\nSoy-Ginger-Chili Pears & Sea Beans & Umi Togarashi Pear Chips\nDomaine Chanson Chablis 2019 \nSECOND COURSE\nLobster Dumplings\nArtichoke “Barigoule” Broth\nDomaine Chanson Beaune Bastion 1er Cru Chardonnay 2016 \nTHIRD COURSE\nDuck Breast with Corn and Foie Gras Pudding\nOnion-Pistachio Jam and Deep Fried Grapes\nDomaine Chanson Bourgogne Rouge Pinot Noir 2020 \nFOURTH COURSE\nDry Aged Steak and Roast Bone Marrow\n“Ants on a Log” – Garlicky Snails with Watercress Ragout Potato Gratin\nDomaine Chanson Givry 2019 \nDESSERT COURSE\nTiny Dancer\nTriple Chocolate Mousse Cake\, Toasted Almonds\, Grand Marnier\, Caramel\, Raspberry & Espresso Whipped Cream \nCheesecake Pops\nCotton Candy \nQuinta do Noval Black Port NV \nMenu subject to change. \n \n 
URL:https://redhorsebydb.com/event/burgundy-5-course-wine-dinner/
LOCATION:The LOFT in Red Horse by David Burke\, 26 Ridge Road\, Rumson\, NJ\, 07760\, United States
CATEGORIES:dinner,Steakhouse Dinners
ATTACH;FMTTYPE=image/jpeg:https://redhorsebydb.com/wp-content/uploads/2022/05/an-evening-in-burgundy.jpg
ORGANIZER;CN="Red Horse by David Burke":MAILTO:hello@redhorsebydb.com
END:VEVENT
BEGIN:VEVENT
DTSTART;TZID=America/New_York:20220825T183000
DTEND;TZID=America/New_York:20220825T213000
DTSTAMP:20260423T075554
CREATED:20220726T201624Z
LAST-MODIFIED:20220818T182156Z
UID:10000116-1661452200-1661463000@redhorsebydb.com
SUMMARY:8/25 JB Neufeld 5-Course Wine Dinner
DESCRIPTION:Thursday\, August 25\, 2022\n6:30pm light passed appetizers & sparkling wine upon arrival\n7 pm seated dinner\nThe Loft at Red Horse\n \n$160 per person (plus tax)\nTickets must be purchased in advance.  A  20% service charge\, including gratuity will be added to final bill. \n“JB Neufeld X Red Horse by David Burke”\n5-Course Wine Dinner\n—\nCourse The First\nJersey Tomatoes and Plums\nCashews\, ricotta\, thai basil on polenta foccacia\nFeaturing JB Neufeld Sauvignon Blanc 2021 \n—\nCourse The Second\nWagyu Tartar\nQuail Egg Salad\, Fermented Fennel\, Nicoise Olive Crumble\nFeaturing JB Neufeld Yakima Red 2018 \n—\nCourse The Third\nCorn Agnolotti\nPoached Lobster\, Heirloom Tomato sauce\nFeaturing JB Neufeld Yakima Valley Cabernet Sauvignon 2019 \n—\nCourse The Fourth\nSmoked Duck\nMole\, Burnt Corn\, Pickled Fruit\nFeaturing JB Neufeld Ciel Du Cheval 2019 \n—\nCourse The Fifth\nChocolate Souffle\nFeaturing JB Neufeld “Old Goat” Cabernet Sauvignon
URL:https://redhorsebydb.com/event/jb-neufeld-wine-dinner/
LOCATION:The LOFT in Red Horse by David Burke\, 26 Ridge Road\, Rumson\, NJ\, 07760\, United States
CATEGORIES:dinner,Steakhouse Dinners
ATTACH;FMTTYPE=image/jpeg:https://redhorsebydb.com/wp-content/uploads/2022/07/jb-neufeld-x-red-horse-by-david-burke-horizontal-scaled.jpg
ORGANIZER;CN="Red Horse by David Burke":MAILTO:hello@redhorsebydb.com
END:VEVENT
BEGIN:VEVENT
DTSTART;TZID=America/New_York:20220616T183000
DTEND;TZID=America/New_York:20220616T213000
DTSTAMP:20260423T075554
CREATED:20220509T182850Z
LAST-MODIFIED:20220612T180930Z
UID:10000096-1655404200-1655415000@redhorsebydb.com
SUMMARY:6/16 "Wines of Willamette" 5-Course Wine Dinner
DESCRIPTION:Thursday\, June 16\, 2022\n6:30 pm light passed appetizers & sparkling wine upon arrival\n7 pm seated dinner\nThe Loft at Red Horse\n \n$185 per person (plus tax) \n5-Course Wine Dinner Menu by Chef David Burke\n\nReception\nSparkling Wine \nTuna tartar on crispy rice\, spicy aioli\nBeef and kimchi potstickers\nBeef and sesame on salt blocks \n\nFirst Course\nKing Estate Pinot Gris\nMarinated scallops\, rhubarb\, chamomile\n\nSecond Course \nRoserock Chardonnay by Domaine Drouhin\, Eola Amity\nDuck Dumpling\, braised artichoke\, spring vegetables\, Chardonnay and basil oil reduction\n\nThird Course\nSokol Blosser Pinot Noir\, Dundee Hills\nSeared Skate\, clams\, chorizo\, chanterelles with clam fumet\, crispy artichoke\n\nFourth Course\nBeaux Freres “The Willamette”\nAged beef\, seared trumpet mushroom\, fava bean and mushroom ragu\n\nFifth Course\nWillamette Valley Vineyards Riesling\, Oregon\nNOT SO HUMBLE\, Key Lime Pie\nGolden Plums\, crispy citrus meringue\n\nTickets must be purchased in advance.  A  20% service charge\, including gratuity will be added to final bill. \n**Menu Subject To Change**
URL:https://redhorsebydb.com/event/wines-of-willamette-5-course-dinner/
LOCATION:The LOFT in Red Horse by David Burke\, 26 Ridge Road\, Rumson\, NJ\, 07760\, United States
CATEGORIES:dinner,Steakhouse Dinners
ATTACH;FMTTYPE=image/jpeg:https://redhorsebydb.com/wp-content/uploads/2022/05/wines-of-willamette-five-course-dinner.jpg
ORGANIZER;CN="Red Horse by David Burke":MAILTO:hello@redhorsebydb.com
END:VEVENT
END:VCALENDAR