BEGIN:VCALENDAR
VERSION:2.0
PRODID:-//Red Horse by David Burke - Bernards Inn - ECPv6.15.20//NONSGML v1.0//EN
CALSCALE:GREGORIAN
METHOD:PUBLISH
X-WR-CALNAME:Red Horse by David Burke - Bernards Inn
X-ORIGINAL-URL:https://redhorsebydb.com/restaurant-bernards
X-WR-CALDESC:Events for Red Horse by David Burke - Bernards Inn
REFRESH-INTERVAL;VALUE=DURATION:PT1H
X-Robots-Tag:noindex
X-PUBLISHED-TTL:PT1H
BEGIN:VTIMEZONE
TZID:America/New_York
BEGIN:DAYLIGHT
TZOFFSETFROM:-0500
TZOFFSETTO:-0400
TZNAME:EDT
DTSTART:20230312T070000
END:DAYLIGHT
BEGIN:STANDARD
TZOFFSETFROM:-0400
TZOFFSETTO:-0500
TZNAME:EST
DTSTART:20231105T060000
END:STANDARD
BEGIN:DAYLIGHT
TZOFFSETFROM:-0500
TZOFFSETTO:-0400
TZNAME:EDT
DTSTART:20240310T070000
END:DAYLIGHT
BEGIN:STANDARD
TZOFFSETFROM:-0400
TZOFFSETTO:-0500
TZNAME:EST
DTSTART:20241103T060000
END:STANDARD
BEGIN:DAYLIGHT
TZOFFSETFROM:-0500
TZOFFSETTO:-0400
TZNAME:EDT
DTSTART:20250309T070000
END:DAYLIGHT
BEGIN:STANDARD
TZOFFSETFROM:-0400
TZOFFSETTO:-0500
TZNAME:EST
DTSTART:20251102T060000
END:STANDARD
END:VTIMEZONE
BEGIN:VEVENT
DTSTART;TZID=America/New_York:20240320T180000
DTEND;TZID=America/New_York:20240320T220000
DTSTAMP:20260423T205434
CREATED:20240307T192913Z
LAST-MODIFIED:20240321T033454Z
UID:2842-1710957600-1710972000@redhorsebydb.com
SUMMARY:3/20 Country Night BBQ & Line Dancing in the Ballroom
DESCRIPTION:BBQ Buffet Dinner and Dancing\nin the Fenwick Ballroom\nWednesday March 20\, 2024\n6pm – 10pm \nCome boot\, scoot\, and boogie for a fun night of country line dancing at “New Jersey’s Best New Restaurant”\, Red Horse by David Burke at Bernards Inn. All levels of country line dancers welcome from beginners to advanced! No experience and no partners are necessary! \nThe night’s event is hosted by Marc Abramson owner of “Keepin’ It Country” with line dance instruction by Kristin DiCapitani. Kristin will show you how to do several basic moves and you’ll be able to practice. \nGuests will dance to old and new country tunes on the wood dance floor in the Fenwick Ballroom. The event is casual dress or dress up in your best Western attire! \nTicketholders will be treated to a David Burke-style Southern BBQ buffet including appetizers\, house-barbecued brisket\, shrimp\, ribs\, seasonal sides and desserts! \n$85 per person (+ tax and gratuity)
URL:https://redhorsebydb.com/restaurant-bernards/event/3-20-country-night-bbq-line-dancing-in-the-ballroom/
LOCATION:Red Horse by David Burke – Bernards Inn\, 27 Minebrook Rd\, Bernardsville\, NJ\, 07924\, United States
CATEGORIES:ballroom
ATTACH;FMTTYPE=image/png:https://redhorsebydb.com/restaurant-bernards/wp-content/uploads/2023/04/RHB_country-dance-1200.png
END:VEVENT
END:VCALENDAR