BEGIN:VCALENDAR
VERSION:2.0
PRODID:-//Red Horse by David Burke - Bernards Inn - ECPv6.15.18//NONSGML v1.0//EN
CALSCALE:GREGORIAN
METHOD:PUBLISH
X-ORIGINAL-URL:https://redhorsebydb.com/restaurant-bernards
X-WR-CALDESC:Events for Red Horse by David Burke - Bernards Inn
REFRESH-INTERVAL;VALUE=DURATION:PT1H
X-Robots-Tag:noindex
X-PUBLISHED-TTL:PT1H
BEGIN:VTIMEZONE
TZID:America/New_York
BEGIN:DAYLIGHT
TZOFFSETFROM:-0500
TZOFFSETTO:-0400
TZNAME:EDT
DTSTART:20250309T070000
END:DAYLIGHT
BEGIN:STANDARD
TZOFFSETFROM:-0400
TZOFFSETTO:-0500
TZNAME:EST
DTSTART:20251102T060000
END:STANDARD
BEGIN:DAYLIGHT
TZOFFSETFROM:-0500
TZOFFSETTO:-0400
TZNAME:EDT
DTSTART:20260308T070000
END:DAYLIGHT
BEGIN:STANDARD
TZOFFSETFROM:-0400
TZOFFSETTO:-0500
TZNAME:EST
DTSTART:20261101T060000
END:STANDARD
BEGIN:DAYLIGHT
TZOFFSETFROM:-0500
TZOFFSETTO:-0400
TZNAME:EDT
DTSTART:20270314T070000
END:DAYLIGHT
BEGIN:STANDARD
TZOFFSETFROM:-0400
TZOFFSETTO:-0500
TZNAME:EST
DTSTART:20271107T060000
END:STANDARD
END:VTIMEZONE
BEGIN:VEVENT
DTSTART;TZID=America/New_York:20260425T190000
DTEND;TZID=America/New_York:20260425T220000
DTSTAMP:20260422T180040
CREATED:20260331T172527Z
LAST-MODIFIED:20260420T232448Z
UID:8813-1777143600-1777154400@redhorsebydb.com
SUMMARY:4/25 CC Coletti Band LIVE in THE BERNIE
DESCRIPTION:﻿﻿CC Coletti & Band\nRock & Roll For Your Soul\nTICKETS \nSaturday\, April 25\, 7–10pm \n$15 General Admission (BAR and BAR Tables 1st Come\, 1st Seated)\n$65 Premium View Supper Club Seating includes 3-Course Dinner \nReservations Recommended (Walk-ins Welcome) \nEnjoy Live Music\, The BERNIE MENU\, Drink Specials & our extensive Red Horse by David Burke wine list \nCC Coletti\, backing vocalist for Meat Loaf (2003-2010) debuts her classic rock style\, covers and originals at The Bernie\, with her polished band of Joe Cirotti on guitar\, TJ Jablonski on bass and Jamie Tiger on drums. Belting out tunes from Zepplin\, Janis\, Heart\, Allman Bros\, Benetar and more\, this is a show you dont want to miss. What better to do on a Saturday Night than make that reservation\, kick back and listen to your favorite classic tunes! $15 cover\, Rock On! \nTHE BERNIE SUPPER CLUB 3-COURSE MENU \n\nTHE BERNIE A LA CARTE MENU
URL:https://redhorsebydb.com/restaurant-bernards/event/4-25-cc-coletti-band-live-in-the-bernie/
LOCATION:The BERNIE at Red Horse by David Burke – Bernards Inn\, 27 Minebrook Rd\, Bernards Inn\, 07924\, United States
CATEGORIES:featured,Live Music,THE BERNIE
ATTACH;FMTTYPE=image/jpeg:https://redhorsebydb.com/restaurant-bernards/wp-content/uploads/2026/03/CC-Coletti-4-25-26-RHBI.jpg
END:VEVENT
BEGIN:VEVENT
DTSTART;TZID=America/New_York:20260606T190000
DTEND;TZID=America/New_York:20260606T220000
DTSTAMP:20260422T180040
CREATED:20260420T224950Z
LAST-MODIFIED:20260420T225131Z
UID:8862-1780772400-1780783200@redhorsebydb.com
SUMMARY:6/6 BLUES PEOPLE LIVE in THE BERNIE
DESCRIPTION:BLUES PEOPLE with Mike Griot\nTICKETS \nSaturday\, June 6\, 2026\, 7–10pm\n$15 Entertainment Fee\nReservations Recommended (Walk-ins Welcome) \nEnjoy Live Music\, The BERNIE MENU\, Drink Specials & our extensive Red Horse by David Burke wine list \nDO NOT MISS this night of GREAT New Jersey BLUES in THE BERNIE. A mix of FUNK\, JAZZ\, SOUL and BLUES\, the Blues People debut album The Skin I’m In has been nominated for 2024 Best New Artist and Best Debut Album awards by Blues Blast Magazine. The record has appeared in the top 40 of several blues charts since the album’s release last year. Wear your dancing shoes and get ready to witness forty-year veterans of the local music scene making the best music of their lives right now! READ MORE HERE about the BLUES PEOPLE 
URL:https://redhorsebydb.com/restaurant-bernards/event/6-6-blues-people-live-in-the-bernie/
LOCATION:The BERNIE at Red Horse by David Burke – Bernards Inn\, 27 Minebrook Rd\, Bernards Inn\, 07924\, United States
CATEGORIES:featured,Live Music,THE BERNIE
ATTACH;FMTTYPE=image/jpeg:https://redhorsebydb.com/restaurant-bernards/wp-content/uploads/2026/04/blues-people-JUN-6-26-RHBI.jpg
END:VEVENT
END:VCALENDAR