BEGIN:VCALENDAR
VERSION:2.0
PRODID:-//Red Horse by David Burke - Bernards Inn - ECPv6.15.20//NONSGML v1.0//EN
CALSCALE:GREGORIAN
METHOD:PUBLISH
X-ORIGINAL-URL:https://redhorsebydb.com/restaurant-bernards
X-WR-CALDESC:Events for Red Horse by David Burke - Bernards Inn
REFRESH-INTERVAL;VALUE=DURATION:PT1H
X-Robots-Tag:noindex
X-PUBLISHED-TTL:PT1H
BEGIN:VTIMEZONE
TZID:America/New_York
BEGIN:DAYLIGHT
TZOFFSETFROM:-0500
TZOFFSETTO:-0400
TZNAME:EDT
DTSTART:20230312T070000
END:DAYLIGHT
BEGIN:STANDARD
TZOFFSETFROM:-0400
TZOFFSETTO:-0500
TZNAME:EST
DTSTART:20231105T060000
END:STANDARD
BEGIN:DAYLIGHT
TZOFFSETFROM:-0500
TZOFFSETTO:-0400
TZNAME:EDT
DTSTART:20240310T070000
END:DAYLIGHT
BEGIN:STANDARD
TZOFFSETFROM:-0400
TZOFFSETTO:-0500
TZNAME:EST
DTSTART:20241103T060000
END:STANDARD
BEGIN:DAYLIGHT
TZOFFSETFROM:-0500
TZOFFSETTO:-0400
TZNAME:EDT
DTSTART:20250309T070000
END:DAYLIGHT
BEGIN:STANDARD
TZOFFSETFROM:-0400
TZOFFSETTO:-0500
TZNAME:EST
DTSTART:20251102T060000
END:STANDARD
END:VTIMEZONE
BEGIN:VEVENT
DTSTART;TZID=America/New_York:20241004T190000
DTEND;TZID=America/New_York:20241004T220000
DTSTAMP:20260423T112719
CREATED:20240921T141325Z
LAST-MODIFIED:20241005T193248Z
UID:5317-1728068400-1728079200@redhorsebydb.com
SUMMARY:10/4 Dave Mullen LIVE in THE BERNIE
DESCRIPTION:﻿N’AWLINS / JAZZ\n \nEnjoy Live Music\, The BERNIE MENU\, Drink Specials & our extensive Red Horse by David Burke wine list \nNo Cover\, Walk-ins Welcome\n$40 minimum spend
URL:https://redhorsebydb.com/restaurant-bernards/event/10-4-dave-mullen-live-in-the-bernie/
LOCATION:The BERNIE at Red Horse by David Burke – Bernards Inn\, 27 Minebrook Rd\, Bernards Inn\, 07924\, United States
CATEGORIES:THE BERNIE PAST EVENTS
ATTACH;FMTTYPE=image/jpeg:https://redhorsebydb.com/restaurant-bernards/wp-content/uploads/2024/09/dave-mullen-the-bernie.jpg
END:VEVENT
END:VCALENDAR