BEGIN:VCALENDAR
VERSION:2.0
PRODID:-//Red Horse by David Burke - Bernards Inn - ECPv6.15.20//NONSGML v1.0//EN
CALSCALE:GREGORIAN
METHOD:PUBLISH
X-WR-CALNAME:Red Horse by David Burke - Bernards Inn
X-ORIGINAL-URL:https://redhorsebydb.com/restaurant-bernards
X-WR-CALDESC:Events for Red Horse by David Burke - Bernards Inn
REFRESH-INTERVAL;VALUE=DURATION:PT1H
X-Robots-Tag:noindex
X-PUBLISHED-TTL:PT1H
BEGIN:VTIMEZONE
TZID:America/New_York
BEGIN:DAYLIGHT
TZOFFSETFROM:-0500
TZOFFSETTO:-0400
TZNAME:EDT
DTSTART:20230312T070000
END:DAYLIGHT
BEGIN:STANDARD
TZOFFSETFROM:-0400
TZOFFSETTO:-0500
TZNAME:EST
DTSTART:20231105T060000
END:STANDARD
BEGIN:DAYLIGHT
TZOFFSETFROM:-0500
TZOFFSETTO:-0400
TZNAME:EDT
DTSTART:20240310T070000
END:DAYLIGHT
BEGIN:STANDARD
TZOFFSETFROM:-0400
TZOFFSETTO:-0500
TZNAME:EST
DTSTART:20241103T060000
END:STANDARD
BEGIN:DAYLIGHT
TZOFFSETFROM:-0500
TZOFFSETTO:-0400
TZNAME:EDT
DTSTART:20250309T070000
END:DAYLIGHT
BEGIN:STANDARD
TZOFFSETFROM:-0400
TZOFFSETTO:-0500
TZNAME:EST
DTSTART:20251102T060000
END:STANDARD
END:VTIMEZONE
BEGIN:VEVENT
DTSTART;TZID=America/New_York:20240802T183000
DTEND;TZID=America/New_York:20240802T213000
DTSTAMP:20260424T094004
CREATED:20240628T161436Z
LAST-MODIFIED:20240803T231735Z
UID:4080-1722623400-1722634200@redhorsebydb.com
SUMMARY:8/2 Chef David Burke Meet-and-Greet Cooking Demo & 4-Course Dinner
DESCRIPTION:Chef David Burke\n+ Meet-and-Greet +\nCooking Demo & 4-Course Dinner\n\nFriday\, August 2 at 6:30pm\nRed Horse by David Burke – Bernards Inn\n$95 \nCocktail Reception and Cooking Demo \n– Featuring a Cooking Demonstration with Chef David Burke\n– Welcome Cocktail and Hors D’Oeuvres\n– 4-Course Dinner\n– Wine Selections Included\nJoin us for a fun\, interactive dinner with Chef David Burke at Red Horse by David Burke – Bernards Inn. Between courses Chef Burke pulls back the curtain to show you “behind the scenes” tricks to cooking some of his creatively presented dishes on the night’s menu. Chef will talk to you about his culinary career\, the journey and challenges…\nand wait for it… drum roll please \nMenu to be revealed\nIncludes a variety for your palette: \nCrab\nLobster\nTuna\nDry Aged Beef\nDessert \n“It’s like having dinner in my home… Intimate\, fun\, relaxing and delicious!\nGreat connections\, Q & A session and some laughs!” \n– Chef David Burke
URL:https://redhorsebydb.com/restaurant-bernards/event/8-2-chef-david-burke-meet-and-greet-cooking-demo-4-course-dinner/
LOCATION:Red Horse by David Burke – Bernards Inn\, 27 Minebrook Rd\, Bernardsville\, NJ\, 07924\, United States
CATEGORIES:wine dinner
ATTACH;FMTTYPE=image/jpeg:https://redhorsebydb.com/restaurant-bernards/wp-content/uploads/2023/04/Red-Horse-Bernards-Inn-meet-n-greet-aug2-web-noqr.jpg
END:VEVENT
BEGIN:VEVENT
DTSTART;TZID=America/New_York:20240829T183000
DTEND;TZID=America/New_York:20240829T213000
DTSTAMP:20260424T094004
CREATED:20240806T142911Z
LAST-MODIFIED:20240909T171348Z
UID:4538-1724956200-1724967000@redhorsebydb.com
SUMMARY:8/29 Santa Margherita Wine Dinner
DESCRIPTION:﻿﻿﻿8/29 Santa Margherita Wine Dinner\nat Red Horse by David Burke at the Bernards Inn \nTHURSDAY\, August 29\, 2024\n6:30 pm\n$110 per person \nFour Courses ~ Five Wines\nJoin us to celebrate the flavors of late summer paired with Santa Margherita wines from Italy. Don’t miss this dinner! \n \nAbout Santa Margherita \nCount Gaetano Marzotto dreamed of people\, nature\, and technology working in synergy. He was a visionary\, as agriculture had yet to be mechanized. In 1935\, his dream came to life when he began revitalizing an abandoned parcel of land in the Venetian countryside. He chose the location well — this had been a region of fine vineyards since Roman times. He would bring it back to its former glory\, employing new agricultural science and honoring his commitment to the needs of the locals. Such an inspirational place could only bear one name — that of his one true love\, his wife Margherita. And so Santa Margherita was born where alpine rivers cut through sun-drenched hills on their winding journey to the Mediterranean. \nOUR WINE \nThe wines of Santa Margherita are classic Italian varietals that come from our regional vineyards in Italy. They are as diverse\, flavorful\, and authentic as the many ways you can enjoy them. \nOUR SUSTAINABLE PRACTICES \nSanta Margherita began with a personal and passionate commitment to preserving the environment. We hold our entire organization to the highest levels of social responsibility and environmental sustainability while remaining committed to our Italian heritage.
URL:https://redhorsebydb.com/restaurant-bernards/event/8-29-santa-margherita-wine-dinner/
LOCATION:Red Horse by David Burke – Bernards Inn\, 27 Minebrook Rd\, Bernardsville\, NJ\, 07924\, United States
CATEGORIES:wine dinner
ATTACH;FMTTYPE=image/jpeg:https://redhorsebydb.com/restaurant-bernards/wp-content/uploads/2023/04/santa-margherita-8-29-1080-v2.jpg
END:VEVENT
END:VCALENDAR