BEGIN:VCALENDAR
VERSION:2.0
PRODID:-//Red Horse by David Burke - Bernards Inn - ECPv6.15.18//NONSGML v1.0//EN
CALSCALE:GREGORIAN
METHOD:PUBLISH
X-ORIGINAL-URL:https://redhorsebydb.com/restaurant-bernards
X-WR-CALDESC:Events for Red Horse by David Burke - Bernards Inn
REFRESH-INTERVAL;VALUE=DURATION:PT1H
X-Robots-Tag:noindex
X-PUBLISHED-TTL:PT1H
BEGIN:VTIMEZONE
TZID:America/New_York
BEGIN:DAYLIGHT
TZOFFSETFROM:-0500
TZOFFSETTO:-0400
TZNAME:EDT
DTSTART:20230312T070000
END:DAYLIGHT
BEGIN:STANDARD
TZOFFSETFROM:-0400
TZOFFSETTO:-0500
TZNAME:EST
DTSTART:20231105T060000
END:STANDARD
BEGIN:DAYLIGHT
TZOFFSETFROM:-0500
TZOFFSETTO:-0400
TZNAME:EDT
DTSTART:20240310T070000
END:DAYLIGHT
BEGIN:STANDARD
TZOFFSETFROM:-0400
TZOFFSETTO:-0500
TZNAME:EST
DTSTART:20241103T060000
END:STANDARD
BEGIN:DAYLIGHT
TZOFFSETFROM:-0500
TZOFFSETTO:-0400
TZNAME:EDT
DTSTART:20250309T070000
END:DAYLIGHT
BEGIN:STANDARD
TZOFFSETFROM:-0400
TZOFFSETTO:-0500
TZNAME:EST
DTSTART:20251102T060000
END:STANDARD
END:VTIMEZONE
BEGIN:VEVENT
DTSTART;TZID=America/New_York:20241010T181500
DTEND;TZID=America/New_York:20241010T210000
DTSTAMP:20260422T020935
CREATED:20240913T191452Z
LAST-MODIFIED:20241011T172714Z
UID:5181-1728584100-1728594000@redhorsebydb.com
SUMMARY:10/10 Dinner in the Dark by Chef David Burke
DESCRIPTION:Dinner in the Dark\n“Autumn Flavors”\nA Culinary Adventure\nby Chef David Burke\nSnacks & Cocktails on Arrival\n4-Course Dinner Paired with 4 Wines\n \nRed Horse by David Burke – Bernards Inn\nThursday\, October 10th at 6:15pm\n$95 Per Person \nRed Horse by David Burke Chefs and Sommeliers will guide you\, blindfolded\, tasting each course and pairing designed by Chef Burke to heighten the senses of taste and smell of the season. This immersive\, social evening starts with a cocktail reception at 6:15. \nThe menu is a surprise!\nHint: close your eyes and think of the tastes and smells of Autumn  \nCasey Webb\, quoted in Patch NJ by Carly Baldwin\n(Casey is host of “Man vs. Food” on the Cooking Channel): \n“Often\, we are consumed by the surroundings and chatter at a restaurant. But when one of your senses is taken away you must tune into the others\,” said Webb – NJ Patch\nCasey Webb quoted in Patch NJ by Carly Baldwin \nChef Burke interviewed by NJ Monthly by KT Harrison: \nBurke’s new M.O. is designed “to make the evening all about surprise and discovery. It’s really empowering to learn how much your other senses can add to a meal when you can’t see what’s going on.” \nThe reason\, Burke says\, is that “tasting without seeing refocuses your taste buds on flavor and texture. You sniff the food\, explore its crispness or creaminess. Your hearing is enhanced\, too. So is your social radar. You chat with your neighbors without knowing what they look like\, which is very cool.” \n**Price does not include tax and gratuity**
URL:https://redhorsebydb.com/restaurant-bernards/event/10-10-dinner-in-the-dark-by-chef-david-burke/
LOCATION:Red Horse by David Burke – Bernards Inn\, 27 Minebrook Rd\, Bernardsville\, NJ\, 07924\, United States
CATEGORIES:wine dinner
ATTACH;FMTTYPE=image/jpeg:https://redhorsebydb.com/restaurant-bernards/wp-content/uploads/2024/09/RHBI-dinner-in-the-dark-10-10.jpg
END:VEVENT
BEGIN:VEVENT
DTSTART;TZID=America/New_York:20241023T183000
DTEND;TZID=America/New_York:20241023T213000
DTSTAMP:20260422T020935
CREATED:20241003T180359Z
LAST-MODIFIED:20241024T211105Z
UID:5524-1729708200-1729719000@redhorsebydb.com
SUMMARY:10/23 Freemark Abbey Wine Dinner
DESCRIPTION:﻿10/23 Freemark Abbey Wine Dinner\n4-Course Wine Dinner with 5 Pairings \nWednesday\, October 23\, 2024\n6:30-9:30pm \n$85 per person (plus tax & gratuity) \n \nAges 21+. Menu items subject to change.
URL:https://redhorsebydb.com/restaurant-bernards/event/10-23-freemark-abbey-wine-dinner/
LOCATION:Red Horse by David Burke – Bernards Inn\, 27 Minebrook Rd\, Bernardsville\, NJ\, 07924\, United States
CATEGORIES:THE BERNIE PAST EVENTS,wine dinner
ATTACH;FMTTYPE=image/jpeg:https://redhorsebydb.com/restaurant-bernards/wp-content/uploads/2024/10/freemark-rhbi-10-23.jpg
END:VEVENT
END:VCALENDAR