BEGIN:VCALENDAR
VERSION:2.0
PRODID:-//Red Horse by David Burke - Bernards Inn - ECPv6.15.18//NONSGML v1.0//EN
CALSCALE:GREGORIAN
METHOD:PUBLISH
X-ORIGINAL-URL:https://redhorsebydb.com/restaurant-bernards
X-WR-CALDESC:Events for Red Horse by David Burke - Bernards Inn
REFRESH-INTERVAL;VALUE=DURATION:PT1H
X-Robots-Tag:noindex
X-PUBLISHED-TTL:PT1H
BEGIN:VTIMEZONE
TZID:America/New_York
BEGIN:DAYLIGHT
TZOFFSETFROM:-0500
TZOFFSETTO:-0400
TZNAME:EDT
DTSTART:20230312T070000
END:DAYLIGHT
BEGIN:STANDARD
TZOFFSETFROM:-0400
TZOFFSETTO:-0500
TZNAME:EST
DTSTART:20231105T060000
END:STANDARD
BEGIN:DAYLIGHT
TZOFFSETFROM:-0500
TZOFFSETTO:-0400
TZNAME:EDT
DTSTART:20240310T070000
END:DAYLIGHT
BEGIN:STANDARD
TZOFFSETFROM:-0400
TZOFFSETTO:-0500
TZNAME:EST
DTSTART:20241103T060000
END:STANDARD
BEGIN:DAYLIGHT
TZOFFSETFROM:-0500
TZOFFSETTO:-0400
TZNAME:EDT
DTSTART:20250309T070000
END:DAYLIGHT
BEGIN:STANDARD
TZOFFSETFROM:-0400
TZOFFSETTO:-0500
TZNAME:EST
DTSTART:20251102T060000
END:STANDARD
END:VTIMEZONE
BEGIN:VEVENT
DTSTART;TZID=America/New_York:20241009T180000
DTEND;TZID=America/New_York:20241009T210000
DTSTAMP:20260421T125021
CREATED:20240912T201551Z
LAST-MODIFIED:20241010T025710Z
UID:5172-1728496800-1728507600@redhorsebydb.com
SUMMARY:10/9 Ballroom Bingo Buffet Dinner
DESCRIPTION:Boozy Bernardsville Bingo Buffet in the Ballroom\nWednesday\, October 9th\n$65 per person\nDoors 6pm \nUpscale Buffet Dinner\n2 Hours of Free Bingo Starting at 6:30pm\nHave Fun and Win Prizes!\nJoin us for a luxurious buffet dinner featuring cold and hot stations \nMenu to be Revealed
URL:https://redhorsebydb.com/restaurant-bernards/event/10-9-ballroom-bingo-buffet-dinner/
LOCATION:Red Horse by David Burke – Bernards Inn\, 27 Minebrook Rd\, Bernardsville\, NJ\, 07924\, United States
CATEGORIES:bingo dinner
ATTACH;FMTTYPE=image/jpeg:https://redhorsebydb.com/restaurant-bernards/wp-content/uploads/2023/04/RHB_Bingo_V1a-oct-9.jpg
END:VEVENT
END:VCALENDAR