BEGIN:VCALENDAR
VERSION:2.0
PRODID:-//Red Horse by David Burke - Bernards Inn - ECPv6.15.20//NONSGML v1.0//EN
CALSCALE:GREGORIAN
METHOD:PUBLISH
X-WR-CALNAME:Red Horse by David Burke - Bernards Inn
X-ORIGINAL-URL:https://redhorsebydb.com/restaurant-bernards
X-WR-CALDESC:Events for Red Horse by David Burke - Bernards Inn
REFRESH-INTERVAL;VALUE=DURATION:PT1H
X-Robots-Tag:noindex
X-PUBLISHED-TTL:PT1H
BEGIN:VTIMEZONE
TZID:America/New_York
BEGIN:DAYLIGHT
TZOFFSETFROM:-0500
TZOFFSETTO:-0400
TZNAME:EDT
DTSTART:20240310T070000
END:DAYLIGHT
BEGIN:STANDARD
TZOFFSETFROM:-0400
TZOFFSETTO:-0500
TZNAME:EST
DTSTART:20241103T060000
END:STANDARD
BEGIN:DAYLIGHT
TZOFFSETFROM:-0500
TZOFFSETTO:-0400
TZNAME:EDT
DTSTART:20250309T070000
END:DAYLIGHT
BEGIN:STANDARD
TZOFFSETFROM:-0400
TZOFFSETTO:-0500
TZNAME:EST
DTSTART:20251102T060000
END:STANDARD
BEGIN:DAYLIGHT
TZOFFSETFROM:-0500
TZOFFSETTO:-0400
TZNAME:EDT
DTSTART:20260308T070000
END:DAYLIGHT
BEGIN:STANDARD
TZOFFSETFROM:-0400
TZOFFSETTO:-0500
TZNAME:EST
DTSTART:20261101T060000
END:STANDARD
END:VTIMEZONE
BEGIN:VEVENT
DTSTART;TZID=America/New_York:20250102T190000
DTEND;TZID=America/New_York:20250102T220000
DTSTAMP:20260424T193356
CREATED:20241222T193509Z
LAST-MODIFIED:20250104T194208Z
UID:6545-1735844400-1735855200@redhorsebydb.com
SUMMARY:1/2/25 James Garbo Band LIVE in THE BERNIE
DESCRIPTION:Enjoy Live Music\, The BERNIE MENU\, Drink Specials & our extensive Red Horse by David Burke wine list \n\n$10 Entertainment Fee\n$35 per person food & beverage minimum spend\n\n\n\nPurchase Advance Tickets to Reserve Guaranteed Seating\nWalk-ins Welcome (space permitting)\n\nThursday\, January 2nd\, 2025 \nJames Garbo Band
URL:https://redhorsebydb.com/restaurant-bernards/event/james-garbo/
LOCATION:The BERNIE at Red Horse by David Burke – Bernards Inn\, 27 Minebrook Rd\, Bernards Inn\, 07924\, United States
CATEGORIES:THE BERNIE PAST EVENTS
ATTACH;FMTTYPE=image/jpeg:https://redhorsebydb.com/restaurant-bernards/wp-content/uploads/2024/12/1-2-25-james-garabo-1080.jpg
END:VEVENT
BEGIN:VEVENT
DTSTART;TZID=America/New_York:20250104T190000
DTEND;TZID=America/New_York:20250104T220000
DTSTAMP:20260424T193356
CREATED:20241222T190156Z
LAST-MODIFIED:20250106T154918Z
UID:6538-1736017200-1736028000@redhorsebydb.com
SUMMARY:1/4/25 Tom Rice Band LIVE in THE BERNIE
DESCRIPTION:Enjoy Live Music\, The BERNIE MENU\, Drink Specials & our extensive Red Horse by David Burke wine list \n\n$10 Entertainment Fee\n$35 per person food & beverage minimum spend\n\n\n\nPurchase Advance Tickets to Reserve Guaranteed Seating\nWalk-ins Welcome (space permitting)\n\nSaturday\, January 4th\, 2025 \nTom Rice Band\nOriginal and Blues Standards \nSinger and guitarist Tom Rice & Band will perform an eclectic mix of acoustic Blues and Roots music featuring blues songs by Muddy Waters\, Howlin’ Wolf\, Sonny Boy Williamson\, Taj Mahal\, and Robbin Ford\, and songs by Little Feat\, Van Morrison\, John Prine\, and Tom Waits.
URL:https://redhorsebydb.com/restaurant-bernards/event/tom-rice-band/
LOCATION:The BERNIE at Red Horse by David Burke – Bernards Inn\, 27 Minebrook Rd\, Bernards Inn\, 07924\, United States
CATEGORIES:THE BERNIE PAST EVENTS
ATTACH;FMTTYPE=image/jpeg:https://redhorsebydb.com/restaurant-bernards/wp-content/uploads/2024/12/Tom-Rice-1-4-25-sat.jpg
END:VEVENT
BEGIN:VEVENT
DTSTART;TZID=America/New_York:20250112T110000
DTEND;TZID=America/New_York:20250112T143000
DTSTAMP:20260424T193356
CREATED:20241221T153919Z
LAST-MODIFIED:20250113T204041Z
UID:6513-1736679600-1736692200@redhorsebydb.com
SUMMARY:1/12 Farmers & Makers Brunch
DESCRIPTION:Farmers & Makers Brunch Buffet in the Ballroom\nSunday\, January 12th\n$45 per person\n11am – 2pm \nTICKETS \nUpscale Buffet Brunch\nLocal Farmers and Makers will participate in the Brunch and have tables with goods and wares for sale\n\nJoin us for a luxurious buffet brunch featuring cold and hot stations
URL:https://redhorsebydb.com/restaurant-bernards/event/farmers-makers-brunch/
LOCATION:Red Horse by David Burke – Bernards Inn\, 27 Minebrook Rd\, Bernardsville\, NJ\, 07924\, United States
CATEGORIES:brunch event
ATTACH;FMTTYPE=image/jpeg:https://redhorsebydb.com/restaurant-bernards/wp-content/uploads/2023/04/RHBI_FarmersMarket-1080-v2.jpg
END:VEVENT
BEGIN:VEVENT
DTSTART;TZID=America/New_York:20250115T180000
DTEND;TZID=America/New_York:20250115T210000
DTSTAMP:20260424T193356
CREATED:20241212T001837Z
LAST-MODIFIED:20250116T000600Z
UID:6449-1736964000-1736974800@redhorsebydb.com
SUMMARY:1/15 Ballroom Bingo Buffet Dinner
DESCRIPTION:Boozy Bernardsville Bingo Buffet in the Ballroom\nWednesday\, January 15th\n$65 per person\nDoors 6pm \nTICKETS \nUpscale Buffet Dinner\n2 Hours of Free Bingo Starting at 6:30pm\nHave Fun and Win Prizes!\nJoin us for a luxurious buffet dinner featuring cold and hot stations\nSAMPLE MENU – This menu is to be updated for the season
URL:https://redhorsebydb.com/restaurant-bernards/event/1-15-ballroom-bingo-buffet-dinner/
LOCATION:Red Horse by David Burke – Bernards Inn\, 27 Minebrook Rd\, Bernardsville\, NJ\, 07924\, United States
CATEGORIES:ballroom,bingo dinner
ATTACH;FMTTYPE=image/jpeg:https://redhorsebydb.com/restaurant-bernards/wp-content/uploads/2023/04/RHB_Bingo_V1a-jan-15-25a.jpg
END:VEVENT
BEGIN:VEVENT
DTSTART;TZID=America/New_York:20250116T183000
DTEND;TZID=America/New_York:20250116T213000
DTSTAMP:20260424T193356
CREATED:20241217T230532Z
LAST-MODIFIED:20250117T010820Z
UID:6508-1737052200-1737063000@redhorsebydb.com
SUMMARY:1/16 Taste of Spain 3-Course Dinner
DESCRIPTION:Taste of Spain\n3-Course Wine-Paired Dinner\nin THE BERNIE\nThursday\, January 16th\n$95 per person\nDoors 630pm \nTICKETS\nJoin us as our chefs take you on a tour of Spain
URL:https://redhorsebydb.com/restaurant-bernards/event/1-16-fiesta-brava-taste-of-spain-experience/
LOCATION:Red Horse by David Burke – Bernards Inn\, 27 Minebrook Rd\, Bernardsville\, NJ\, 07924\, United States
CATEGORIES:THE BERNIE PAST EVENTS
ATTACH;FMTTYPE=image/png:https://redhorsebydb.com/restaurant-bernards/wp-content/uploads/2023/04/jan-16-taste-of-spain-1080.png
END:VEVENT
END:VCALENDAR