BEGIN:VCALENDAR
VERSION:2.0
PRODID:-//Red Horse by David Burke - Bernards Inn - ECPv6.15.20//NONSGML v1.0//EN
CALSCALE:GREGORIAN
METHOD:PUBLISH
X-ORIGINAL-URL:https://redhorsebydb.com/restaurant-bernards
X-WR-CALDESC:Events for Red Horse by David Burke - Bernards Inn
REFRESH-INTERVAL;VALUE=DURATION:PT1H
X-Robots-Tag:noindex
X-PUBLISHED-TTL:PT1H
BEGIN:VTIMEZONE
TZID:America/New_York
BEGIN:DAYLIGHT
TZOFFSETFROM:-0500
TZOFFSETTO:-0400
TZNAME:EDT
DTSTART:20240310T070000
END:DAYLIGHT
BEGIN:STANDARD
TZOFFSETFROM:-0400
TZOFFSETTO:-0500
TZNAME:EST
DTSTART:20241103T060000
END:STANDARD
BEGIN:DAYLIGHT
TZOFFSETFROM:-0500
TZOFFSETTO:-0400
TZNAME:EDT
DTSTART:20250309T070000
END:DAYLIGHT
BEGIN:STANDARD
TZOFFSETFROM:-0400
TZOFFSETTO:-0500
TZNAME:EST
DTSTART:20251102T060000
END:STANDARD
BEGIN:DAYLIGHT
TZOFFSETFROM:-0500
TZOFFSETTO:-0400
TZNAME:EDT
DTSTART:20260308T070000
END:DAYLIGHT
BEGIN:STANDARD
TZOFFSETFROM:-0400
TZOFFSETTO:-0500
TZNAME:EST
DTSTART:20261101T060000
END:STANDARD
END:VTIMEZONE
BEGIN:VEVENT
DTSTART;TZID=America/New_York:20250404T190000
DTEND;TZID=America/New_York:20250404T220000
DTSTAMP:20260424T143815
CREATED:20250303T225603Z
LAST-MODIFIED:20250405T140535Z
UID:7031-1743793200-1743804000@redhorsebydb.com
SUMMARY:4/4 JB Kline LIVE in THE BERNIE
DESCRIPTION:﻿JB Kline\nhosted by Paul Viggiano\nTICKETS \nFriday\, April 4\, 7–10pm\n$15 Entertainment Fee\n$35 per person food & beverage minimum\nReservations Recommended (Walk-ins Welcome) \nEnjoy Live Music\, The BERNIE MENU\, Drink Specials & our extensive Red Horse by David Burke wine list \nJ.B. Kline is a solid\, seasoned performer with over 40 years of steady playing under his belt. Starting with local New Jersey bands whose members would go on to play with Bruce Springsteen and Patti LaBelle\, Jeff moved to N.Y.C. and performed with such noted acts as the Drifters\, Chuck Berry\, Solomon Burke\, the Crystals\, Fats Domino\, Bo Diddley\, the Marvellettes\, George Thorogood\, and even the Beach Boys! Recently J.B. Kline has performed with Marshall Tucker\, (“the best opening act we’ve ever had!” -Marshall Tucker)\, Shannon McNally\, Big Brother & The Holding Company\, Rick Derringer\, Guitar Shorty\, Johnny Winter\, and B.B. King.
URL:https://redhorsebydb.com/restaurant-bernards/event/4-4-jb-kline-live-in-the-bernie/
LOCATION:The BERNIE at Red Horse by David Burke – Bernards Inn\, 27 Minebrook Rd\, Bernards Inn\, 07924\, United States
CATEGORIES:THE BERNIE PAST EVENTS
ATTACH;FMTTYPE=image/jpeg:https://redhorsebydb.com/restaurant-bernards/wp-content/uploads/2025/03/JB-Kline-4-4-25-RHBI-w.jpg
END:VEVENT
BEGIN:VEVENT
DTSTART;TZID=America/New_York:20250405T190000
DTEND;TZID=America/New_York:20250405T220000
DTSTAMP:20260424T143815
CREATED:20250305T224835Z
LAST-MODIFIED:20250406T032222Z
UID:7055-1743879600-1743890400@redhorsebydb.com
SUMMARY:4/5 CC Coletti Band LIVE in THE BERNIE
DESCRIPTION:CC Coletti Band\nhosted by Paul Viggiano\nTICKETS \nSaturday\, April 5\, 7–10pm\n$15 Entertainment Fee\n$35 per person food & beverage minimum\nReservations Recommended (Walk-ins Welcome) \nEnjoy Live Music\, The BERNIE MENU\, Drink Specials & our extensive Red Horse by David Burke wine list \nCC Coletti\, backing vocalist for Meat Loaf (2003-2010) debuts her classic rock style\, covers and originals at The Bernie\, with her polished band of Joe Cirotti on guitar\, TJ Jablonski on bass and Jamie Tiger on drums. Belting out tunes from Zepplin\, Janis\, Heart\, Allman Bros\, Benetar and more\, this is a show you dont want to miss. What better to do on the day after Thanksgiving than to make a reservation\, kick back and listen to your favorite classic tunes! $10 cover\, Rock On!
URL:https://redhorsebydb.com/restaurant-bernards/event/4-5-cc-coletti-band-live-in-the-bernie/
LOCATION:The BERNIE at Red Horse by David Burke – Bernards Inn\, 27 Minebrook Rd\, Bernards Inn\, 07924\, United States
CATEGORIES:THE BERNIE PAST EVENTS
ATTACH;FMTTYPE=image/jpeg:https://redhorsebydb.com/restaurant-bernards/wp-content/uploads/2023/04/CC-Coletti-4-5-25-RHBI-v2.jpg
END:VEVENT
BEGIN:VEVENT
DTSTART;TZID=America/New_York:20250416T180000
DTEND;TZID=America/New_York:20250416T210000
DTSTAMP:20260424T143815
CREATED:20250322T160346Z
LAST-MODIFIED:20250417T195055Z
UID:7257-1744826400-1744837200@redhorsebydb.com
SUMMARY:4/16 Ballroom Bingo Buffet Dinner
DESCRIPTION:Boozy Bernardsville Bingo Buffet in the Ballroom\nWednesday\, April 16th\n$65 per person\nTICKETS \nUpscale Buffet Dinner\n2 Hours of Free Bingo Starting at 6:30pm\nHave Fun and Win Prizes!\nJoin us for a luxurious buffet dinner featuring cold and hot stations\nSAMPLE MENU – This menu is to be updated for the season
URL:https://redhorsebydb.com/restaurant-bernards/event/4-16-ballroom-bingo-buffet-dinner/
LOCATION:Red Horse by David Burke – Bernards Inn\, 27 Minebrook Rd\, Bernardsville\, NJ\, 07924\, United States
CATEGORIES:bingo dinner
ATTACH;FMTTYPE=image/jpeg:https://redhorsebydb.com/restaurant-bernards/wp-content/uploads/2025/03/RHB_Bingo_V1a-Apr-16-25.jpg
END:VEVENT
BEGIN:VEVENT
DTSTART;TZID=America/New_York:20250418T190000
DTEND;TZID=America/New_York:20250418T220000
DTSTAMP:20260424T143815
CREATED:20250311T185850Z
LAST-MODIFIED:20250420T152926Z
UID:7100-1745002800-1745013600@redhorsebydb.com
SUMMARY:4/18 Joe Rizzolo and his "Rizzolution Quartet" LIVE in THE BERNIE
DESCRIPTION:Joe Rizzolo and his “Rizzolution Quartet”\nhosted by Paul Viggiano\nTICKETS MENU \nFriday\, April 18\, 7–10pm\n$15 Entertainment Fee\n$35 per person food & beverage minimum\nReservations Recommended (Walk-ins Welcome) \nEnjoy Live Music\, The BERNIE MENU\, Drink Specials & our extensive Red Horse by David Burke wine list \nJazz Drummer Joe Rizzolo brings his Rizzolution Quartet to THE BERNIE for a night of LIVE Jazz\, dining and drinks! \nTim McCall Tenor Sax\nNat Janoff Guitar\nAnthony Perez  Bass\nJoe Rizzolo Drums \n\n \nMENU
URL:https://redhorsebydb.com/restaurant-bernards/event/4-18-joe-rizzolo-and-his-rizzolution-quartet-live-in-the-bernie/
LOCATION:The BERNIE at Red Horse by David Burke – Bernards Inn\, 27 Minebrook Rd\, Bernards Inn\, 07924\, United States
CATEGORIES:THE BERNIE PAST EVENTS
ATTACH;FMTTYPE=image/jpeg:https://redhorsebydb.com/restaurant-bernards/wp-content/uploads/2023/04/joe-rizzolo-4-18-25-RHBI-a2.jpg
END:VEVENT
BEGIN:VEVENT
DTSTART;TZID=America/New_York:20250419T190000
DTEND;TZID=America/New_York:20250419T220000
DTSTAMP:20260424T143815
CREATED:20250224T213406Z
LAST-MODIFIED:20250420T152939Z
UID:6971-1745089200-1745100000@redhorsebydb.com
SUMMARY:4/19 BLUES PEOPLE LIVE in THE BERNIE
DESCRIPTION:BLUES PEOPLE with Mike Griot\nhosted by Paul Viggiano\nTICKETS \nApril 19\, 7–10pm\n$15 Entertainment Fee\n$35 per person food & beverage minimum\nReservations Recommended (Walk-ins Welcome) \n\n\nEnjoy Live Music\, The BERNIE MENU\, Drink Specials & our extensive Red Horse by David Burke wine list \nDO NOT MISS this night of GREAT New Jersey BLUES in THE BERNIE. A mix of FUNK\, JAZZ\, SOUL and BLUES\, the Blues People debut album The Skin I’m In has been nominated for 2024 Best New Artist and Best Debut Album awards by Blues Blast Magazine. The record has appeared in the top 40 of several blues charts since the album’s release last year. Wear your dancing shoes and get ready to witness forty-year veterans of the local music scene making the best music of their lives right now! READ MORE HERE about the BLUES PEOPLE 
URL:https://redhorsebydb.com/restaurant-bernards/event/4-19-blues-people-live-in-the-bernie/
LOCATION:The BERNIE at Red Horse by David Burke – Bernards Inn\, 27 Minebrook Rd\, Bernards Inn\, 07924\, United States
CATEGORIES:THE BERNIE PAST EVENTS
ATTACH;FMTTYPE=image/jpeg:https://redhorsebydb.com/restaurant-bernards/wp-content/uploads/2023/04/Mike-Griot-apr-19-25-RHBI-v15.jpg
END:VEVENT
BEGIN:VEVENT
DTSTART;TZID=America/New_York:20250425T180000
DTEND;TZID=America/New_York:20250425T210000
DTSTAMP:20260424T143815
CREATED:20250321T185802Z
LAST-MODIFIED:20250428T165941Z
UID:7244-1745604000-1745614800@redhorsebydb.com
SUMMARY:4/25 Comedy Night Dinner & A Show at The BERNIE
DESCRIPTION:3-Course Dinner\nComedy show hosted by Vanetta Schoefield with Comedians performing after dinner\n$105 per person Premium Seating/ $95 per person Bar Seating \nTICKETS \nHeadlining: Lana Siebel\nFeaturing: Joe Fernandes\nTHE BERNIE at Red Horse by David Burke – Bernards Inn\nFriday\, March 28\, 2025\n6 – 9pm (Doors at 6pm) \nLana Siebel\nDry Bar Comedy Special titled “Age Appropriate”\, Amazon Prime\nNY Comedy Festival 2023 & 2024\nNational touring headliner\nLana Siebel is a NY based comedian who has been headlining shows all over the United States.\nHighlights from this past year included the filming of her Dry Bar Comedy Special titled “Age Appropriate\,” being a part of the 2023 New York Comedy Festival as well as performing at the legendary Comedy Store in LA. She has been mentioned several times in TimeOut NY and an independent film she costarred in is available to stream on Amazon Prime. \nRecently\, she headlined at Catch a Rising Star in New Jersey\, Punch Line Comedy Club in Philadelphia\, The Comic Strip in New York\, Governor’s Comedy Club in Long Island\, NY\, Don’t Tell Comedy in New York\, The Tropicana Hotel and Casino and Resorts Hotel and Casino in Atlantic City\, New Jersey\, Rhino Comedy Club in Suffern\, NY\, Church of Satire in Pennsylvania\, and many others. \n\nJoe Fernandes\nIf You Would’ve Told Me Podcast\,\nGilda’s Laugh Fest\nStand-Up Comedian from NJ. Comedy Album “Impossible Human available on all streaming platforms. Check out the new podcast @ifyouwouldvetoldme\nJoe Fernandes is a Stand-Up comedian\, actor\, and filmmaker. His laid back style has an honest point of view that any audience can relate to. When he’s not in comedy clubs making fun of his unrelenting confusion with life\, he can be found on hiking trails in North New Jersey with his corgi Cody. He released his debut standup album Impossible Human in 2020 and Season 1 of his award winning web series\, I Don’t Know Joe\, is available now on Sparkk.tv \n\nVanetta Schoefield\nFounder of Funny Hunnyz LLC\,\nWeTV \nMENU
URL:https://redhorsebydb.com/restaurant-bernards/event/4-25-comedy-night-dinner-a-show-at-the-bernie/
LOCATION:The BERNIE at Red Horse by David Burke – Bernards Inn\, 27 Minebrook Rd\, Bernards Inn\, 07924\, United States
CATEGORIES:THE BERNIE PAST EVENTS
ATTACH;FMTTYPE=image/jpeg:https://redhorsebydb.com/restaurant-bernards/wp-content/uploads/2023/04/bernie-comedy-supper-club-apr-25-25a25.jpg
END:VEVENT
END:VCALENDAR