BEGIN:VCALENDAR
VERSION:2.0
PRODID:-//Red Horse by David Burke - Bernards Inn - ECPv6.15.18//NONSGML v1.0//EN
CALSCALE:GREGORIAN
METHOD:PUBLISH
X-ORIGINAL-URL:https://redhorsebydb.com/restaurant-bernards
X-WR-CALDESC:Events for Red Horse by David Burke - Bernards Inn
REFRESH-INTERVAL;VALUE=DURATION:PT1H
X-Robots-Tag:noindex
X-PUBLISHED-TTL:PT1H
BEGIN:VTIMEZONE
TZID:America/New_York
BEGIN:DAYLIGHT
TZOFFSETFROM:-0500
TZOFFSETTO:-0400
TZNAME:EDT
DTSTART:20240310T070000
END:DAYLIGHT
BEGIN:STANDARD
TZOFFSETFROM:-0400
TZOFFSETTO:-0500
TZNAME:EST
DTSTART:20241103T060000
END:STANDARD
BEGIN:DAYLIGHT
TZOFFSETFROM:-0500
TZOFFSETTO:-0400
TZNAME:EDT
DTSTART:20250309T070000
END:DAYLIGHT
BEGIN:STANDARD
TZOFFSETFROM:-0400
TZOFFSETTO:-0500
TZNAME:EST
DTSTART:20251102T060000
END:STANDARD
BEGIN:DAYLIGHT
TZOFFSETFROM:-0500
TZOFFSETTO:-0400
TZNAME:EDT
DTSTART:20260308T070000
END:DAYLIGHT
BEGIN:STANDARD
TZOFFSETFROM:-0400
TZOFFSETTO:-0500
TZNAME:EST
DTSTART:20261101T060000
END:STANDARD
END:VTIMEZONE
BEGIN:VEVENT
DTSTART;TZID=America/New_York:20251108T190000
DTEND;TZID=America/New_York:20251108T220000
DTSTAMP:20260420T103402
CREATED:20250803T220046Z
LAST-MODIFIED:20251109T134521Z
UID:7927-1762628400-1762639200@redhorsebydb.com
SUMMARY:11/8 We May Be Right "Billy Joel Tribute" Band in THE BERNIE
DESCRIPTION:We May Be Right\nTICKETS MENU \nSaturday\, November 8\n7–10pm\nDoors at 6pm\n$95 Premium View Dining Room Seating w/ 3-Course Prix Fixe Menu Included\n$30 Partially Obstructed Bar Room Seating (a la carte menu) \nReserve your table today! \nEnjoy Live Music\, The BERNIE MENU\, Drink Specials & our extensive Red Horse by David Burke wine list. \nPowerhouse ensemble We May Be Right returns to ROCK THE BERNIE on a Sunday Funday Afternoon! \nDelivering an electrifying performance wowing audiences of all ages as they authentically re-create the music of one the greatest Rock and Roll Keyboard Players\, “Piano Man” Billy Joel. \nA New York City Skyline sets the backdrop with the band delivering hit after hit along with some of Billy’s best deep cuts. \nNight after night We May Be Right brings the audience to their feet and gets them singing along to all the classics! \n \n3-COURSE PRIX FIXE MENU\nSample Menu. Menu items to be updated for this event and the season.\n\nA LA CARTE MENU
URL:https://redhorsebydb.com/restaurant-bernards/event/11-8-we-may-be-right-band/
LOCATION:The BERNIE at Red Horse by David Burke – Bernards Inn\, 27 Minebrook Rd\, Bernards Inn\, 07924\, United States
CATEGORIES:THE BERNIE PAST EVENTS
ATTACH;FMTTYPE=image/jpeg:https://redhorsebydb.com/restaurant-bernards/wp-content/uploads/2025/08/We-may-be-Right-11-8-25-RHBI.jpg
END:VEVENT
END:VCALENDAR