BEGIN:VCALENDAR
VERSION:2.0
PRODID:-//Red Horse by David Burke - White Plains - ECPv6.15.20//NONSGML v1.0//EN
CALSCALE:GREGORIAN
METHOD:PUBLISH
X-ORIGINAL-URL:https://redhorsebydb.com/restaurant-white-plains
X-WR-CALDESC:Events for Red Horse by David Burke - White Plains
REFRESH-INTERVAL;VALUE=DURATION:PT1H
X-Robots-Tag:noindex
X-PUBLISHED-TTL:PT1H
BEGIN:VTIMEZONE
TZID:America/New_York
BEGIN:DAYLIGHT
TZOFFSETFROM:-0500
TZOFFSETTO:-0400
TZNAME:EDT
DTSTART:20230312T070000
END:DAYLIGHT
BEGIN:STANDARD
TZOFFSETFROM:-0400
TZOFFSETTO:-0500
TZNAME:EST
DTSTART:20231105T060000
END:STANDARD
BEGIN:DAYLIGHT
TZOFFSETFROM:-0500
TZOFFSETTO:-0400
TZNAME:EDT
DTSTART:20240310T070000
END:DAYLIGHT
BEGIN:STANDARD
TZOFFSETFROM:-0400
TZOFFSETTO:-0500
TZNAME:EST
DTSTART:20241103T060000
END:STANDARD
BEGIN:DAYLIGHT
TZOFFSETFROM:-0500
TZOFFSETTO:-0400
TZNAME:EDT
DTSTART:20250309T070000
END:DAYLIGHT
BEGIN:STANDARD
TZOFFSETFROM:-0400
TZOFFSETTO:-0500
TZNAME:EST
DTSTART:20251102T060000
END:STANDARD
END:VTIMEZONE
BEGIN:VEVENT
DTSTART;TZID=America/New_York:20240618T180000
DTEND;TZID=America/New_York:20240618T210000
DTSTAMP:20260424T192930
CREATED:20240517T193515Z
LAST-MODIFIED:20240620T003210Z
UID:2903-1718733600-1718744400@redhorsebydb.com
SUMMARY:6/18 Comedy Night Dinner & A Show
DESCRIPTION:Comedy Night Dinner & A Show\nat Red Horse by David Burke – White Plains \nTuesday\, June 18\nDoors at 6:00pm\n$85 per person (+ tax and gratuity) \nPresenting \nAbby Washuta\nOphiria Eisenberg\nMatthew Broussard \nhosted by John B\nBios: \nAbby Washuta\nAbby is a stand-up comic\, writer and producer based in New York City. She promises to write a more detailed bio when she has more time. She’s busy goddamn it. If you want the whole story\, come to a show and I’ll tell you in person. \nOphiria Eisenberg\nOphira Eisenberg is a Canadian-born standup comedian\, writer\, and host. She hosted NPR’s comedy trivia show Ask Me Another for 9-years\, where she interviewed and played silly games with hundreds of celebrities including Sir Patrick Stewart\, Awkwafina\, Rosie Perez\, Yo-Yo Ma\, Bob The Drag Queen\, Nick Kroll\, Chelsea Handler\, Jim Gaffigan\, Michael C. Hall\, and so many others. \nShe can be seen live\, regularly headlining across the United States\, Canada\, and Europe delivering her unique blend of standup and storytelling to a loyal fan base of smart\, irreverent comedy lovers. She has appeared at Montreal’s Just for Laughs Festival\, The New Yorker Festival\, The New York Comedy Festival\, Moontower Comedy Festival\, Bumbershoot\, The Nantucket Film Festival\, Women in Comedy Festival and more. \nMatthew Broussard\nBorn in New Jersey\, raised in Atlanta\, and\, in 2012\, winner of Houston’s Funniest Person\, Matthew Broussard is not exactly sure where he’s from. Matthew earned a degree in Applied Mathematics and a job as a financial analyst before moving to West Hollywood to pursue stand-up comedy full time. His brand of playful\, witty humor covers topics from physics & grammar to the hardships of looking like an 80s movie villain. Aside from his popular webcomic\, mondaypunday.com\, he can be seen on The League\, The Mindy Project\, Conan\, Roast Battle\, and has his own Half Hour Special on Comedy Central. But his Cajun father and Jewish mother still really want him to take the GMAT. \nSAMPLE MENU.\nMENU TO BE UPDATED
URL:https://redhorsebydb.com/restaurant-white-plains/event/6-18-comedy-night-dinner-a-show/
LOCATION:Red Horse by David Burke White Plains at The Opus Westchester\, 221 Main Street\, White Plains\, NY\, 10601\, United States
CATEGORIES:Comedy Night
ATTACH;FMTTYPE=image/jpeg:https://redhorsebydb.com/restaurant-white-plains/wp-content/uploads/2024/05/red-horse-white-plains-comedy-supper-club-june-18.jpg
END:VEVENT
END:VCALENDAR