BEGIN:VCALENDAR
VERSION:2.0
PRODID:-//Red Horse by David Burke - White Plains - ECPv6.15.20//NONSGML v1.0//EN
CALSCALE:GREGORIAN
METHOD:PUBLISH
X-ORIGINAL-URL:https://redhorsebydb.com/restaurant-white-plains
X-WR-CALDESC:Events for Red Horse by David Burke - White Plains
REFRESH-INTERVAL;VALUE=DURATION:PT1H
X-Robots-Tag:noindex
X-PUBLISHED-TTL:PT1H
BEGIN:VTIMEZONE
TZID:America/New_York
BEGIN:DAYLIGHT
TZOFFSETFROM:-0500
TZOFFSETTO:-0400
TZNAME:EDT
DTSTART:20220313T070000
END:DAYLIGHT
BEGIN:STANDARD
TZOFFSETFROM:-0400
TZOFFSETTO:-0500
TZNAME:EST
DTSTART:20221106T060000
END:STANDARD
BEGIN:DAYLIGHT
TZOFFSETFROM:-0500
TZOFFSETTO:-0400
TZNAME:EDT
DTSTART:20230312T070000
END:DAYLIGHT
BEGIN:STANDARD
TZOFFSETFROM:-0400
TZOFFSETTO:-0500
TZNAME:EST
DTSTART:20231105T060000
END:STANDARD
BEGIN:DAYLIGHT
TZOFFSETFROM:-0500
TZOFFSETTO:-0400
TZNAME:EDT
DTSTART:20240310T070000
END:DAYLIGHT
BEGIN:STANDARD
TZOFFSETFROM:-0400
TZOFFSETTO:-0500
TZNAME:EST
DTSTART:20241103T060000
END:STANDARD
END:VTIMEZONE
BEGIN:VEVENT
DTSTART;TZID=America/New_York:20231219T183000
DTEND;TZID=America/New_York:20231219T213000
DTSTAMP:20260424T081539
CREATED:20230915T204135Z
LAST-MODIFIED:20231216T010715Z
UID:1331-1703010600-1703021400@redhorsebydb.com
SUMMARY:12/19 Red Horse “Tour de France” Wine Pairing Dinner
DESCRIPTION:Tuesday December 19 \n“Tour de France” 5-Course Wine Dinner\nAdrian Chalk Portfolio\nKicking off the Holidays! Please join us for a 5-Course “Tour of France” Menu paired with exclusive French vineyards and vintages curated by Adrian Chalk. Consider giving this unique dining experience this holiday season! \n$175 per person (+ tax and gratuity)
URL:https://redhorsebydb.com/restaurant-white-plains/event/red-horse-tour-of-france/
LOCATION:Red Horse by David Burke White Plains at The Opus Westchester\, 221 Main Street\, White Plains\, NY\, 10601\, United States
CATEGORIES:Wine Dinner
ATTACH;FMTTYPE=image/jpeg:https://redhorsebydb.com/restaurant-white-plains/wp-content/uploads/2023/04/tour-of-france-adrian-chalk-dec-19-2023-1080.jpg
END:VEVENT
BEGIN:VEVENT
DTSTART;TZID=America/New_York:20231220T181500
DTEND;TZID=America/New_York:20231220T220000
DTSTAMP:20260424T081539
CREATED:20231128T171653Z
LAST-MODIFIED:20231128T171653Z
UID:1886-1703096100-1703109600@redhorsebydb.com
SUMMARY:12/20 Dinner in the Dark by Chef David Burke
DESCRIPTION:The Private Room “Speakeasy” in\nRed Horse by David Burke\nWhite Plains\, NY\n6:15pm \nBlindfolded\, join us\, Wednesday\, December 20th in the Private Dining Room “Speakeasy” for a 5-Course Sensory Experience Dinner complete with wine and cocktail pairings. \n$100 per person \nExperience a blindfolded dinner by Chef David Burke \nDining in the Dark\nSmell the Herbs & Spices\,\nTaste the Land & Sea.\nBe with like-minded people\,\nA new journey you’ll see! \n**Price does not include tax and gratuity** \n 
URL:https://redhorsebydb.com/restaurant-white-plains/event/12-20-dinner-in-the-dark-by-chef-david-burke/
LOCATION:Red Horse by David Burke White Plains at The Opus Westchester\, 221 Main Street\, White Plains\, NY\, 10601\, United States
CATEGORIES:Wine Dinner
ATTACH;FMTTYPE=image/jpeg:https://redhorsebydb.com/restaurant-white-plains/wp-content/uploads/2023/11/red-horse-dinner-in-the-dark-12-20-wp.jpg
END:VEVENT
END:VCALENDAR