BEGIN:VCALENDAR
VERSION:2.0
PRODID:-//Red Horse by David Burke - White Plains - ECPv6.15.20//NONSGML v1.0//EN
CALSCALE:GREGORIAN
METHOD:PUBLISH
X-ORIGINAL-URL:https://redhorsebydb.com/restaurant-white-plains
X-WR-CALDESC:Events for Red Horse by David Burke - White Plains
REFRESH-INTERVAL;VALUE=DURATION:PT1H
X-Robots-Tag:noindex
X-PUBLISHED-TTL:PT1H
BEGIN:VTIMEZONE
TZID:America/New_York
BEGIN:DAYLIGHT
TZOFFSETFROM:-0500
TZOFFSETTO:-0400
TZNAME:EDT
DTSTART:20230312T070000
END:DAYLIGHT
BEGIN:STANDARD
TZOFFSETFROM:-0400
TZOFFSETTO:-0500
TZNAME:EST
DTSTART:20231105T060000
END:STANDARD
BEGIN:DAYLIGHT
TZOFFSETFROM:-0500
TZOFFSETTO:-0400
TZNAME:EDT
DTSTART:20240310T070000
END:DAYLIGHT
BEGIN:STANDARD
TZOFFSETFROM:-0400
TZOFFSETTO:-0500
TZNAME:EST
DTSTART:20241103T060000
END:STANDARD
BEGIN:DAYLIGHT
TZOFFSETFROM:-0500
TZOFFSETTO:-0400
TZNAME:EDT
DTSTART:20250309T070000
END:DAYLIGHT
BEGIN:STANDARD
TZOFFSETFROM:-0400
TZOFFSETTO:-0500
TZNAME:EST
DTSTART:20251102T060000
END:STANDARD
END:VTIMEZONE
BEGIN:VEVENT
DTSTART;TZID=America/New_York:20240306T183000
DTEND;TZID=America/New_York:20240306T213000
DTSTAMP:20260424T000223
CREATED:20231222T180443Z
LAST-MODIFIED:20240301T013704Z
UID:2174-1709749800-1709760600@redhorsebydb.com
SUMMARY:3/6 Orin Swift Wine Dinner
DESCRIPTION:an evening indulging in creative process\, storytelling & David Phinney wines\nFive-Course Dinner with Wine Pairings\n$175 per person + tax & gratuity \n\nORIN SWIFT MANNEQUIN – CHARDONNAY\, Russian River Valley\, Atlas Peak and Santa Maria Valley\, CA 2022\nORIN SWIFT PAPILLON RED NAPA 2021\nORIN SWIFT PALERMO CAB NAPA 2021\nORIN SWIFT MERCURY HEAD CAB NAPA 2021
URL:https://redhorsebydb.com/restaurant-white-plains/event/3-6-orin-swift-wine-dinner/
LOCATION:Red Horse by David Burke White Plains at The Opus Westchester\, 221 Main Street\, White Plains\, NY\, 10601\, United States
CATEGORIES:Wine Dinner
ATTACH;FMTTYPE=image/jpeg:https://redhorsebydb.com/restaurant-white-plains/wp-content/uploads/2023/04/ORIN-SWIFT-red-horse-white-plains-1080rev2.jpg
END:VEVENT
END:VCALENDAR