BEGIN:VCALENDAR
VERSION:2.0
PRODID:-//Red Horse by David Burke - White Plains - ECPv6.15.20//NONSGML v1.0//EN
CALSCALE:GREGORIAN
METHOD:PUBLISH
X-WR-CALNAME:Red Horse by David Burke - White Plains
X-ORIGINAL-URL:https://redhorsebydb.com/restaurant-white-plains
X-WR-CALDESC:Events for Red Horse by David Burke - White Plains
REFRESH-INTERVAL;VALUE=DURATION:PT1H
X-Robots-Tag:noindex
X-PUBLISHED-TTL:PT1H
BEGIN:VTIMEZONE
TZID:America/New_York
BEGIN:DAYLIGHT
TZOFFSETFROM:-0500
TZOFFSETTO:-0400
TZNAME:EDT
DTSTART:20220313T070000
END:DAYLIGHT
BEGIN:STANDARD
TZOFFSETFROM:-0400
TZOFFSETTO:-0500
TZNAME:EST
DTSTART:20221106T060000
END:STANDARD
BEGIN:DAYLIGHT
TZOFFSETFROM:-0500
TZOFFSETTO:-0400
TZNAME:EDT
DTSTART:20230312T070000
END:DAYLIGHT
BEGIN:STANDARD
TZOFFSETFROM:-0400
TZOFFSETTO:-0500
TZNAME:EST
DTSTART:20231105T060000
END:STANDARD
BEGIN:DAYLIGHT
TZOFFSETFROM:-0500
TZOFFSETTO:-0400
TZNAME:EDT
DTSTART:20240310T070000
END:DAYLIGHT
BEGIN:STANDARD
TZOFFSETFROM:-0400
TZOFFSETTO:-0500
TZNAME:EST
DTSTART:20241103T060000
END:STANDARD
END:VTIMEZONE
BEGIN:VEVENT
DTSTART;TZID=America/New_York:20230927T183000
DTEND;TZID=America/New_York:20230927T213000
DTSTAMP:20260419T190755
CREATED:20230829T203122Z
LAST-MODIFIED:20230916T142959Z
UID:1137-1695839400-1695850200@redhorsebydb.com
SUMMARY:9/27 Red Horse by David Burke White Plains X Jordan Winery
DESCRIPTION:JOIN US FOR A JORDAN WINERY DINNER\nWednesday\, September 27\n$150 per person \n4 Course Menu & 4 Pairings\nMiles Trautman from Jordan Winery will be on site to guide your experience all evening!\n\n21 and over event. Prices does not include tax and gratuity.
URL:https://redhorsebydb.com/restaurant-white-plains/event/red-horse-jordan-winery/
LOCATION:Red Horse by David Burke White Plains at The Opus Westchester\, 221 Main Street\, White Plains\, NY\, 10601\, United States
CATEGORIES:Wine Dinner
ATTACH;FMTTYPE=image/jpeg:https://redhorsebydb.com/restaurant-white-plains/wp-content/uploads/2023/04/jordan-winery-sept2023-150-1080.jpg
END:VEVENT
END:VCALENDAR